BEGIN:VCALENDAR
VERSION:2.0
PRODID:-//Centre Equestre Yverdon - ECPv6.15.17.1//NONSGML v1.0//EN
CALSCALE:GREGORIAN
METHOD:PUBLISH
X-WR-CALNAME:Centre Equestre Yverdon
X-ORIGINAL-URL:https://www.centreequestreyverdon.ch
X-WR-CALDESC:Évènements pour Centre Equestre Yverdon
REFRESH-INTERVAL;VALUE=DURATION:PT1H
X-Robots-Tag:noindex
X-PUBLISHED-TTL:PT1H
BEGIN:VTIMEZONE
TZID:Europe/Paris
BEGIN:DAYLIGHT
TZOFFSETFROM:+0100
TZOFFSETTO:+0200
TZNAME:CEST
DTSTART:20240331T010000
END:DAYLIGHT
BEGIN:STANDARD
TZOFFSETFROM:+0200
TZOFFSETTO:+0100
TZNAME:CET
DTSTART:20241027T010000
END:STANDARD
BEGIN:DAYLIGHT
TZOFFSETFROM:+0100
TZOFFSETTO:+0200
TZNAME:CEST
DTSTART:20250330T010000
END:DAYLIGHT
BEGIN:STANDARD
TZOFFSETFROM:+0200
TZOFFSETTO:+0100
TZNAME:CET
DTSTART:20251026T010000
END:STANDARD
BEGIN:DAYLIGHT
TZOFFSETFROM:+0100
TZOFFSETTO:+0200
TZNAME:CEST
DTSTART:20260329T010000
END:DAYLIGHT
BEGIN:STANDARD
TZOFFSETFROM:+0200
TZOFFSETTO:+0100
TZNAME:CET
DTSTART:20261025T010000
END:STANDARD
END:VTIMEZONE
BEGIN:VEVENT
DTSTART;TZID=Europe/Paris:20250804T133000
DTEND;TZID=Europe/Paris:20250804T160000
DTSTAMP:20260422T120351
CREATED:20250326T103115Z
LAST-MODIFIED:20250423T121559Z
UID:23472-1754314200-1754323200@www.centreequestreyverdon.ch
SUMMARY:Initiation Baby/Enfant
DESCRIPTION:Formulaire à envoyer:\ncentre.equestre@ceyverdon.ch\n\n  \n\n  \n  \n  \n  \n  \n  \n 
URL:https://www.centreequestreyverdon.ch/event/initiation-baby-enfant-4/
LOCATION:Centre Equestre Yverdon-Les-Bains\, Rue des Moulins 200\, Yverdon\, 1400\, Suisse
CATEGORIES:Ecole d'équitation,Général,Poney-club
ATTACH;FMTTYPE=image/jpeg:https://www.centreequestreyverdon.ch/wp-content/uploads/2021/10/IMG_7827-scaled.jpg
ORGANIZER;CN="Section 'Ecole d'%C3%A9quitation'":MAILTO:centre.equestre@ceyverdon.ch
END:VEVENT
BEGIN:VEVENT
DTSTART;TZID=Europe/Paris:20250807T093000
DTEND;TZID=Europe/Paris:20250807T160000
DTSTAMP:20260422T120351
CREATED:20250326T104131Z
LAST-MODIFIED:20250423T121536Z
UID:23503-1754559000-1754582400@www.centreequestreyverdon.ch
SUMMARY:Stage Saut & Dressage
DESCRIPTION:Formulaire à envoyer:\ncentre.equestre@ceyverdon.ch\n\n  \n\n  \n  \n  \n  \n  \n  \n 
URL:https://www.centreequestreyverdon.ch/event/stage-saut-dressage-2/
LOCATION:Centre Equestre Yverdon-Les-Bains\, Rue des Moulins 200\, Yverdon\, 1400\, Suisse
CATEGORIES:Ecole d'équitation,Général,Poney-club
ATTACH;FMTTYPE=image/jpeg:https://www.centreequestreyverdon.ch/wp-content/uploads/2024/11/IMG_3085.jpg
ORGANIZER;CN="Section 'Ecole d'%C3%A9quitation'":MAILTO:centre.equestre@ceyverdon.ch
END:VEVENT
BEGIN:VEVENT
DTSTART;TZID=Europe/Paris:20250811T093000
DTEND;TZID=Europe/Paris:20250816T153000
DTSTAMP:20260422T120351
CREATED:20240920T091512Z
LAST-MODIFIED:20240920T091546Z
UID:22867-1754904600-1755358200@www.centreequestreyverdon.ch
SUMMARY:Brevet
DESCRIPTION:FORMULAIRE\n\n  \n  \n  \n  \n  \n  \n 
URL:https://www.centreequestreyverdon.ch/event/brevet-3/
LOCATION:Centre Equestre Yverdon-Les-Bains\, Rue des Moulins 200\, Yverdon\, 1400\, Suisse
CATEGORIES:Ecole d'équitation,Général,Poney-club
ATTACH;FMTTYPE=image/jpeg:https://www.centreequestreyverdon.ch/wp-content/uploads/2023/01/157c2c4b-2608-44c7-a9ac-48851e045896.jpg
ORGANIZER;CN="Section 'Ecole d'%C3%A9quitation'":MAILTO:centre.equestre@ceyverdon.ch
END:VEVENT
END:VCALENDAR