BEGIN:VCALENDAR
VERSION:2.0
PRODID:-//Centre Equestre Yverdon - ECPv6.15.17.1//NONSGML v1.0//EN
CALSCALE:GREGORIAN
METHOD:PUBLISH
X-WR-CALNAME:Centre Equestre Yverdon
X-ORIGINAL-URL:https://www.centreequestreyverdon.ch
X-WR-CALDESC:Évènements pour Centre Equestre Yverdon
REFRESH-INTERVAL;VALUE=DURATION:PT1H
X-Robots-Tag:noindex
X-PUBLISHED-TTL:PT1H
BEGIN:VTIMEZONE
TZID:Europe/Paris
BEGIN:DAYLIGHT
TZOFFSETFROM:+0100
TZOFFSETTO:+0200
TZNAME:CEST
DTSTART:20240331T010000
END:DAYLIGHT
BEGIN:STANDARD
TZOFFSETFROM:+0200
TZOFFSETTO:+0100
TZNAME:CET
DTSTART:20241027T010000
END:STANDARD
BEGIN:DAYLIGHT
TZOFFSETFROM:+0100
TZOFFSETTO:+0200
TZNAME:CEST
DTSTART:20250330T010000
END:DAYLIGHT
BEGIN:STANDARD
TZOFFSETFROM:+0200
TZOFFSETTO:+0100
TZNAME:CET
DTSTART:20251026T010000
END:STANDARD
BEGIN:DAYLIGHT
TZOFFSETFROM:+0100
TZOFFSETTO:+0200
TZNAME:CEST
DTSTART:20260329T010000
END:DAYLIGHT
BEGIN:STANDARD
TZOFFSETFROM:+0200
TZOFFSETTO:+0100
TZNAME:CET
DTSTART:20261025T010000
END:STANDARD
END:VTIMEZONE
BEGIN:VEVENT
DTSTART;TZID=Europe/Paris:20250704T133000
DTEND;TZID=Europe/Paris:20250704T160000
DTSTAMP:20260422T133801
CREATED:20250326T103313Z
LAST-MODIFIED:20250423T122028Z
UID:23478-1751635800-1751644800@www.centreequestreyverdon.ch
SUMMARY:Stage Horse Ball
DESCRIPTION:Formulaire à envoyer:\ncentre.equestre@ceyverdon.ch\n\n  \n\n  \n  \n  \n  \n  \n  \n 
URL:https://www.centreequestreyverdon.ch/event/stage-horse-ball/
LOCATION:Centre Equestre Yverdon-Les-Bains\, Rue des Moulins 200\, Yverdon\, 1400\, Suisse
CATEGORIES:Ecole d'équitation,Général,Poney-club
ATTACH;FMTTYPE=image/jpeg:https://www.centreequestreyverdon.ch/wp-content/uploads/2024/05/5b4a97a49251fd1a1f8b47f4.jpg
ORGANIZER;CN="Section 'Ecole d'%C3%A9quitation'":MAILTO:centre.equestre@ceyverdon.ch
END:VEVENT
BEGIN:VEVENT
DTSTART;TZID=Europe/Paris:20250707T093000
DTEND;TZID=Europe/Paris:20250707T120000
DTSTAMP:20260422T133801
CREATED:20250326T103402Z
LAST-MODIFIED:20250423T122004Z
UID:23481-1751880600-1751889600@www.centreequestreyverdon.ch
SUMMARY:Stage Balade
DESCRIPTION:Formulaire à envoyer:\ncentre.equestre@ceyverdon.ch\n\n  \n\n  \n  \n  \n  \n  \n  \n 
URL:https://www.centreequestreyverdon.ch/event/stage-balade/
LOCATION:Centre Equestre Yverdon-Les-Bains\, Rue des Moulins 200\, Yverdon\, 1400\, Suisse
CATEGORIES:Ecole d'équitation,Général,Poney-club
ATTACH;FMTTYPE=image/jpeg:https://www.centreequestreyverdon.ch/wp-content/uploads/2024/08/quitation-convertimage-1600x900-1.jpg
ORGANIZER;CN="Section 'Ecole d'%C3%A9quitation'":MAILTO:centre.equestre@ceyverdon.ch
END:VEVENT
BEGIN:VEVENT
DTSTART;TZID=Europe/Paris:20250707T133000
DTEND;TZID=Europe/Paris:20250707T160000
DTSTAMP:20260422T133801
CREATED:20250326T103456Z
LAST-MODIFIED:20250423T121940Z
UID:23484-1751895000-1751904000@www.centreequestreyverdon.ch
SUMMARY:Stage Voltige
DESCRIPTION:Formulaire à envoyer:\ncentre.equestre@ceyverdon.ch\n\n  \n\n  \n  \n  \n  \n  \n  \n 
URL:https://www.centreequestreyverdon.ch/event/stage-voltige/
LOCATION:Centre Equestre Yverdon-Les-Bains\, Rue des Moulins 200\, Yverdon\, 1400\, Suisse
CATEGORIES:Ecole d'équitation,Général,Poney-club
ATTACH;FMTTYPE=image/jpeg:https://www.centreequestreyverdon.ch/wp-content/uploads/2021/09/159_1527605356.jpg
ORGANIZER;CN="Section 'Ecole d'%C3%A9quitation'":MAILTO:centre.equestre@ceyverdon.ch
END:VEVENT
BEGIN:VEVENT
DTSTART;TZID=Europe/Paris:20250708T133000
DTEND;TZID=Europe/Paris:20250708T160000
DTSTAMP:20260422T133801
CREATED:20250326T103019Z
LAST-MODIFIED:20250423T121917Z
UID:23466-1751981400-1751990400@www.centreequestreyverdon.ch
SUMMARY:Initiation Baby/Enfant
DESCRIPTION:Formulaire à envoyer:\ncentre.equestre@ceyverdon.ch\n\n  \n\n  \n  \n  \n  \n  \n  \n 
URL:https://www.centreequestreyverdon.ch/event/initiation-baby-enfant-2/
LOCATION:Centre Equestre Yverdon-Les-Bains\, Rue des Moulins 200\, Yverdon\, 1400\, Suisse
CATEGORIES:Ecole d'équitation,Général,Poney-club
ATTACH;FMTTYPE=image/jpeg:https://www.centreequestreyverdon.ch/wp-content/uploads/2021/10/IMG_7827-scaled.jpg
ORGANIZER;CN="Section 'Ecole d'%C3%A9quitation'":MAILTO:centre.equestre@ceyverdon.ch
END:VEVENT
BEGIN:VEVENT
DTSTART;TZID=Europe/Paris:20250710T093000
DTEND;TZID=Europe/Paris:20250710T120000
DTSTAMP:20260422T133801
CREATED:20250326T103651Z
LAST-MODIFIED:20250423T121854Z
UID:23487-1752139800-1752148800@www.centreequestreyverdon.ch
SUMMARY:Stage Multi-Disciplines
DESCRIPTION:Formulaire à envoyer:\ncentre.equestre@ceyverdon.ch\n\n  \n\n  \n  \n  \n  \n  \n  \n 
URL:https://www.centreequestreyverdon.ch/event/stage-multi-discipline/
LOCATION:Centre Equestre Yverdon-Les-Bains\, Rue des Moulins 200\, Yverdon\, 1400\, Suisse
CATEGORIES:Ecole d'équitation,Général,Poney-club
ATTACH;FMTTYPE=image/jpeg:https://www.centreequestreyverdon.ch/wp-content/uploads/2024/05/5b4a97a49251fd1a1f8b47f4.jpg
ORGANIZER;CN="Section 'Ecole d'%C3%A9quitation'":MAILTO:centre.equestre@ceyverdon.ch
END:VEVENT
BEGIN:VEVENT
DTSTART;TZID=Europe/Paris:20250710T133000
DTEND;TZID=Europe/Paris:20250710T160000
DTSTAMP:20260422T133801
CREATED:20250326T103733Z
LAST-MODIFIED:20250423T121826Z
UID:23490-1752154200-1752163200@www.centreequestreyverdon.ch
SUMMARY:Stage Balade
DESCRIPTION:Formulaire à envoyer:\ncentre.equestre@ceyverdon.ch\n\n  \n\n  \n  \n  \n  \n  \n  \n 
URL:https://www.centreequestreyverdon.ch/event/stage-balade-2/
LOCATION:Centre Equestre Yverdon-Les-Bains\, Rue des Moulins 200\, Yverdon\, 1400\, Suisse
CATEGORIES:Ecole d'équitation,Général,Poney-club
ATTACH;FMTTYPE=image/jpeg:https://www.centreequestreyverdon.ch/wp-content/uploads/2024/08/quitation-convertimage-1600x900-1.jpg
ORGANIZER;CN="Section 'Ecole d'%C3%A9quitation'":MAILTO:centre.equestre@ceyverdon.ch
END:VEVENT
BEGIN:VEVENT
DTSTART;TZID=Europe/Paris:20250714T093000
DTEND;TZID=Europe/Paris:20250714T160000
DTSTAMP:20260422T133801
CREATED:20250326T104110Z
LAST-MODIFIED:20250423T121804Z
UID:23500-1752485400-1752508800@www.centreequestreyverdon.ch
SUMMARY:Stage Saut & Dressage
DESCRIPTION:Formulaire à envoyer:\ncentre.equestre@ceyverdon.ch\n\n  \n\n  \n  \n  \n  \n  \n  \n 
URL:https://www.centreequestreyverdon.ch/event/stage-saut-dressage/
LOCATION:Centre Equestre Yverdon-Les-Bains\, Rue des Moulins 200\, Yverdon\, 1400\, Suisse
CATEGORIES:Ecole d'équitation,Général,Poney-club
ATTACH;FMTTYPE=image/jpeg:https://www.centreequestreyverdon.ch/wp-content/uploads/2024/11/IMG_3085.jpg
ORGANIZER;CN="Section 'Ecole d'%C3%A9quitation'":MAILTO:centre.equestre@ceyverdon.ch
END:VEVENT
BEGIN:VEVENT
DTSTART;TZID=Europe/Paris:20250715T133000
DTEND;TZID=Europe/Paris:20250715T160000
DTSTAMP:20260422T133801
CREATED:20250326T103842Z
LAST-MODIFIED:20250423T121741Z
UID:23495-1752586200-1752595200@www.centreequestreyverdon.ch
SUMMARY:Stage Pony-Games
DESCRIPTION:Formulaire à envoyer:\ncentre.equestre@ceyverdon.ch\n\n  \n\n  \n  \n  \n  \n  \n  \n 
URL:https://www.centreequestreyverdon.ch/event/stage-pony-games-2/
LOCATION:Centre Equestre Yverdon-Les-Bains\, Rue des Moulins 200\, Yverdon\, 1400\, Suisse
CATEGORIES:Ecole d'équitation,Général,Poney-club
ATTACH;FMTTYPE=image/jpeg:https://www.centreequestreyverdon.ch/wp-content/uploads/2024/05/5b4a97a49251fd1a1f8b47f4.jpg
ORGANIZER;CN="Section 'Ecole d'%C3%A9quitation'":MAILTO:centre.equestre@ceyverdon.ch
END:VEVENT
BEGIN:VEVENT
DTSTART;VALUE=DATE:20250718
DTEND;VALUE=DATE:20250721
DTSTAMP:20260422T133801
CREATED:20250129T144307Z
LAST-MODIFIED:20250131T085836Z
UID:23260-1752796800-1753055999@www.centreequestreyverdon.ch
SUMMARY:Concours officiel 18 au 20 juillet 2025
DESCRIPTION:
URL:https://www.centreequestreyverdon.ch/event/concours-officiel-18-au-20-juillet-2025/
LOCATION:Centre Equestre Yverdon-Les-Bains\, Rue des Moulins 200\, Yverdon\, 1400\, Suisse
CATEGORIES:Ecole d'équitation,Général,Parcours d'entrainement
ATTACH;FMTTYPE=image/jpeg:https://www.centreequestreyverdon.ch/wp-content/uploads/2024/11/ccea9fd1-0222-4832-863b-9c8052d5bec8.jpg
END:VEVENT
BEGIN:VEVENT
DTSTART;TZID=Europe/Paris:20250724T093000
DTEND;TZID=Europe/Paris:20250724T120000
DTSTAMP:20260422T133801
CREATED:20250326T103930Z
LAST-MODIFIED:20250423T121718Z
UID:23498-1753349400-1753358400@www.centreequestreyverdon.ch
SUMMARY:Stage Longues Rênes
DESCRIPTION:Formulaire à envoyer:\ncentre.equestre@ceyverdon.ch\n\n  \n\n  \n  \n  \n  \n  \n  \n 
URL:https://www.centreequestreyverdon.ch/event/stage-longues-renes/
LOCATION:Centre Equestre Yverdon-Les-Bains\, Rue des Moulins 200\, Yverdon\, 1400\, Suisse
CATEGORIES:Ecole d'équitation,Général,Poney-club
ATTACH;FMTTYPE=image/jpeg:https://www.centreequestreyverdon.ch/wp-content/uploads/2023/05/article-7-98.jpg
ORGANIZER;CN="Section 'Ecole d'%C3%A9quitation'":MAILTO:centre.equestre@ceyverdon.ch
END:VEVENT
BEGIN:VEVENT
DTSTART;TZID=Europe/Paris:20250724T133000
DTEND;TZID=Europe/Paris:20250724T160000
DTSTAMP:20260422T133801
CREATED:20250326T103759Z
LAST-MODIFIED:20250423T121657Z
UID:23493-1753363800-1753372800@www.centreequestreyverdon.ch
SUMMARY:Stage Balade
DESCRIPTION:Formulaire à envoyer:\ncentre.equestre@ceyverdon.ch\n\n  \n\n  \n  \n  \n  \n  \n  \n 
URL:https://www.centreequestreyverdon.ch/event/stage-balade-3/
LOCATION:Centre Equestre Yverdon-Les-Bains\, Rue des Moulins 200\, Yverdon\, 1400\, Suisse
CATEGORIES:Ecole d'équitation,Général,Poney-club
ATTACH;FMTTYPE=image/jpeg:https://www.centreequestreyverdon.ch/wp-content/uploads/2024/08/quitation-convertimage-1600x900-1.jpg
ORGANIZER;CN="Section 'Ecole d'%C3%A9quitation'":MAILTO:centre.equestre@ceyverdon.ch
END:VEVENT
BEGIN:VEVENT
DTSTART;TZID=Europe/Paris:20250728T133000
DTEND;TZID=Europe/Paris:20250728T160000
DTSTAMP:20260422T133801
CREATED:20250326T103048Z
LAST-MODIFIED:20250423T121625Z
UID:23469-1753709400-1753718400@www.centreequestreyverdon.ch
SUMMARY:Initiation Baby/Enfant
DESCRIPTION:Formulaire à envoyer:\ncentre.equestre@ceyverdon.ch\n\n  \n\n  \n  \n  \n  \n  \n  \n 
URL:https://www.centreequestreyverdon.ch/event/initiation-baby-enfant-3/
LOCATION:Centre Equestre Yverdon-Les-Bains\, Rue des Moulins 200\, Yverdon\, 1400\, Suisse
CATEGORIES:Ecole d'équitation,Général,Poney-club
ATTACH;FMTTYPE=image/jpeg:https://www.centreequestreyverdon.ch/wp-content/uploads/2021/10/IMG_7827-scaled.jpg
ORGANIZER;CN="Section 'Ecole d'%C3%A9quitation'":MAILTO:centre.equestre@ceyverdon.ch
END:VEVENT
END:VCALENDAR