BEGIN:VCALENDAR
VERSION:2.0
PRODID:-//Centre Equestre Yverdon - ECPv6.15.17.1//NONSGML v1.0//EN
CALSCALE:GREGORIAN
METHOD:PUBLISH
X-ORIGINAL-URL:https://www.centreequestreyverdon.ch
X-WR-CALDESC:Évènements pour Centre Equestre Yverdon
REFRESH-INTERVAL;VALUE=DURATION:PT1H
X-Robots-Tag:noindex
X-PUBLISHED-TTL:PT1H
BEGIN:VTIMEZONE
TZID:Europe/Paris
BEGIN:DAYLIGHT
TZOFFSETFROM:+0100
TZOFFSETTO:+0200
TZNAME:CEST
DTSTART:20230326T010000
END:DAYLIGHT
BEGIN:STANDARD
TZOFFSETFROM:+0200
TZOFFSETTO:+0100
TZNAME:CET
DTSTART:20231029T010000
END:STANDARD
BEGIN:DAYLIGHT
TZOFFSETFROM:+0100
TZOFFSETTO:+0200
TZNAME:CEST
DTSTART:20240331T010000
END:DAYLIGHT
BEGIN:STANDARD
TZOFFSETFROM:+0200
TZOFFSETTO:+0100
TZNAME:CET
DTSTART:20241027T010000
END:STANDARD
BEGIN:DAYLIGHT
TZOFFSETFROM:+0100
TZOFFSETTO:+0200
TZNAME:CEST
DTSTART:20250330T010000
END:DAYLIGHT
BEGIN:STANDARD
TZOFFSETFROM:+0200
TZOFFSETTO:+0100
TZNAME:CET
DTSTART:20251026T010000
END:STANDARD
END:VTIMEZONE
BEGIN:VEVENT
DTSTART;TZID=Europe/Paris:20241014T133000
DTEND;TZID=Europe/Paris:20241015T160000
DTSTAMP:20260423T025643
CREATED:20240823T081306Z
LAST-MODIFIED:20240911T121058Z
UID:22805-1728912600-1729008000@www.centreequestreyverdon.ch
SUMMARY:Initiations
DESCRIPTION:Inscriptions à envoyer par e-mail:\nFORMULAIRE\n \n\n  \n  \n  \n  \n  \n  \n 
URL:https://www.centreequestreyverdon.ch/event/initiations/
LOCATION:Centre Equestre Yverdon-Les-Bains\, Rue des Moulins 200\, Yverdon\, 1400\, Suisse
CATEGORIES:Ecole d'équitation,Général,Poney-club
ATTACH;FMTTYPE=image/jpeg:https://www.centreequestreyverdon.ch/wp-content/uploads/2021/10/IMG_7827-scaled.jpg
ORGANIZER;CN="Section 'Ecole d'%C3%A9quitation'":MAILTO:centre.equestre@ceyverdon.ch
END:VEVENT
BEGIN:VEVENT
DTSTART;TZID=Europe/Paris:20241018T133000
DTEND;TZID=Europe/Paris:20241019T160000
DTSTAMP:20260423T025643
CREATED:20240823T080912Z
LAST-MODIFIED:20240911T121040Z
UID:22793-1729258200-1729353600@www.centreequestreyverdon.ch
SUMMARY:Stage Multi-disciplines
DESCRIPTION:Inscriptions à envoyer par e-mail:\nFORMULAIRE\n \n\n  \n  \n  \n  \n  \n  \n 
URL:https://www.centreequestreyverdon.ch/event/stage-multi-disciplines-4/
LOCATION:Centre Equestre Yverdon-Les-Bains\, Rue des Moulins 200\, Yverdon\, 1400\, Suisse
CATEGORIES:Ecole d'équitation,Général,Poney-club
ATTACH;FMTTYPE=image/jpeg:https://www.centreequestreyverdon.ch/wp-content/uploads/2021/09/159_1527605356.jpg
ORGANIZER;CN="Section 'Ecole d'%C3%A9quitation'":MAILTO:centre.equestre@ceyverdon.ch
END:VEVENT
BEGIN:VEVENT
DTSTART;TZID=Europe/Paris:20241021T133000
DTEND;TZID=Europe/Paris:20241022T160000
DTSTAMP:20260423T025643
CREATED:20240823T081323Z
LAST-MODIFIED:20240911T121022Z
UID:22808-1729517400-1729612800@www.centreequestreyverdon.ch
SUMMARY:Initiations
DESCRIPTION:Inscriptions à envoyer par e-mail:\nFORMULAIRE\n \n\n  \n  \n  \n  \n  \n  \n 
URL:https://www.centreequestreyverdon.ch/event/initiations-2/
LOCATION:Centre Equestre Yverdon-Les-Bains\, Rue des Moulins 200\, Yverdon\, 1400\, Suisse
CATEGORIES:Ecole d'équitation,Général,Poney-club
ATTACH;FMTTYPE=image/jpeg:https://www.centreequestreyverdon.ch/wp-content/uploads/2021/10/IMG_7827-scaled.jpg
ORGANIZER;CN="Section 'Ecole d'%C3%A9quitation'":MAILTO:centre.equestre@ceyverdon.ch
END:VEVENT
BEGIN:VEVENT
DTSTART;TZID=Europe/Paris:20241024T133000
DTEND;TZID=Europe/Paris:20241025T160000
DTSTAMP:20260423T025643
CREATED:20240823T081032Z
LAST-MODIFIED:20240911T121005Z
UID:22796-1729776600-1729872000@www.centreequestreyverdon.ch
SUMMARY:Stage Multi-disciplines
DESCRIPTION:Inscriptions à envoyer par e-mail:\nFORMULAIRE\n \n\n  \n  \n  \n  \n  \n  \n 
URL:https://www.centreequestreyverdon.ch/event/stage-multi-disciplines-5/
LOCATION:Centre Equestre Yverdon-Les-Bains\, Rue des Moulins 200\, Yverdon\, 1400\, Suisse
CATEGORIES:Ecole d'équitation,Général,Poney-club
ATTACH;FMTTYPE=image/jpeg:https://www.centreequestreyverdon.ch/wp-content/uploads/2024/08/quitation-convertimage-1600x900-1.jpg
ORGANIZER;CN="Section 'Ecole d'%C3%A9quitation'":MAILTO:centre.equestre@ceyverdon.ch
END:VEVENT
BEGIN:VEVENT
DTSTART;TZID=Europe/Paris:20241025T133000
DTEND;TZID=Europe/Paris:20241026T160000
DTSTAMP:20260423T025643
CREATED:20240823T081142Z
LAST-MODIFIED:20240911T120927Z
UID:22800-1729863000-1729958400@www.centreequestreyverdon.ch
SUMMARY:Stage Halloween
DESCRIPTION:Inscriptions à envoyer par e-mail:\nFORMULAIRE\n \n\n  \n  \n  \n  \n  \n  \n 
URL:https://www.centreequestreyverdon.ch/event/stage-halloween/
LOCATION:Centre Equestre Yverdon-Les-Bains\, Rue des Moulins 200\, Yverdon\, 1400\, Suisse
CATEGORIES:Ecole d'équitation,Général,Poney-club
ATTACH;FMTTYPE=image/jpeg:https://www.centreequestreyverdon.ch/wp-content/uploads/2024/08/mise-plat-theme-halloween-chauves-souris-araignees-citrouilles-fond-blanc-salutation-banniere-halloween.jpg
ORGANIZER;CN="Section 'Ecole d'%C3%A9quitation'":MAILTO:centre.equestre@ceyverdon.ch
END:VEVENT
BEGIN:VEVENT
DTSTART;VALUE=DATE:20241026
DTEND;VALUE=DATE:20241028
DTSTAMP:20260423T025643
CREATED:20240715T085809Z
LAST-MODIFIED:20240715T085809Z
UID:22737-1729900800-1730073599@www.centreequestreyverdon.ch
SUMMARY:Concours officiel 26 au 27 octobre 2024
DESCRIPTION:
URL:https://www.centreequestreyverdon.ch/event/concours-officiel-26-au-27-octobre-2024/
LOCATION:Centre Equestre Yverdon-Les-Bains\, Rue des Moulins 200\, Yverdon\, 1400\, Suisse
CATEGORIES:Ecole d'équitation,Général,Parcours d'entrainement
ATTACH;FMTTYPE=image/jpeg:https://www.centreequestreyverdon.ch/wp-content/uploads/2023/12/AA3_6112.jpg
END:VEVENT
END:VCALENDAR