BEGIN:VCALENDAR
VERSION:2.0
PRODID:-//Centre Equestre Yverdon - ECPv6.15.17.1//NONSGML v1.0//EN
CALSCALE:GREGORIAN
METHOD:PUBLISH
X-ORIGINAL-URL:https://www.centreequestreyverdon.ch
X-WR-CALDESC:Évènements pour Centre Equestre Yverdon
REFRESH-INTERVAL;VALUE=DURATION:PT1H
X-Robots-Tag:noindex
X-PUBLISHED-TTL:PT1H
BEGIN:VTIMEZONE
TZID:Europe/Paris
BEGIN:DAYLIGHT
TZOFFSETFROM:+0100
TZOFFSETTO:+0200
TZNAME:CEST
DTSTART:20230326T010000
END:DAYLIGHT
BEGIN:STANDARD
TZOFFSETFROM:+0200
TZOFFSETTO:+0100
TZNAME:CET
DTSTART:20231029T010000
END:STANDARD
BEGIN:DAYLIGHT
TZOFFSETFROM:+0100
TZOFFSETTO:+0200
TZNAME:CEST
DTSTART:20240331T010000
END:DAYLIGHT
BEGIN:STANDARD
TZOFFSETFROM:+0200
TZOFFSETTO:+0100
TZNAME:CET
DTSTART:20241027T010000
END:STANDARD
BEGIN:DAYLIGHT
TZOFFSETFROM:+0100
TZOFFSETTO:+0200
TZNAME:CEST
DTSTART:20250330T010000
END:DAYLIGHT
BEGIN:STANDARD
TZOFFSETFROM:+0200
TZOFFSETTO:+0100
TZNAME:CET
DTSTART:20251026T010000
END:STANDARD
END:VTIMEZONE
BEGIN:VEVENT
DTSTART;TZID=Europe/Paris:20240702T093000
DTEND;TZID=Europe/Paris:20240702T153000
DTSTAMP:20260423T071444
CREATED:20240510T074548Z
LAST-MODIFIED:20240510T075458Z
UID:22578-1719912600-1719934200@www.centreequestreyverdon.ch
SUMMARY:Stage Voltige/Balade
DESCRIPTION:Inscriptions à envoyer par e-mail:\nFORMULAIRE\n \n\n  \n  \n  \n  \n  \n  \n 
URL:https://www.centreequestreyverdon.ch/event/stage-voltige-balade/
LOCATION:Centre Equestre Yverdon-Les-Bains\, Rue des Moulins 200\, Yverdon\, 1400\, Suisse
CATEGORIES:Ecole d'équitation,Général,Poney-club
ATTACH;FMTTYPE=image/jpeg:https://www.centreequestreyverdon.ch/wp-content/uploads/2021/09/159_1527605356.jpg
ORGANIZER;CN="Section 'Ecole d'%C3%A9quitation'":MAILTO:centre.equestre@ceyverdon.ch
END:VEVENT
BEGIN:VEVENT
DTSTART;TZID=Europe/Paris:20240704T093000
DTEND;TZID=Europe/Paris:20240704T153000
DTSTAMP:20260423T071444
CREATED:20240510T074736Z
LAST-MODIFIED:20240510T075440Z
UID:22596-1720085400-1720107000@www.centreequestreyverdon.ch
SUMMARY:Stage Travail à pied
DESCRIPTION:Inscriptions à envoyer par e-mail:\nFORMULAIRE\n \n\n  \n  \n  \n  \n  \n  \n 
URL:https://www.centreequestreyverdon.ch/event/stage-travail-a-pied/
LOCATION:Centre Equestre Yverdon-Les-Bains\, Rue des Moulins 200\, Yverdon\, 1400\, Suisse
CATEGORIES:Ecole d'équitation,Général,Poney-club
ATTACH;FMTTYPE=image/jpeg:https://www.centreequestreyverdon.ch/wp-content/uploads/2023/05/article-7-98.jpg
ORGANIZER;CN="Section 'Ecole d'%C3%A9quitation'":MAILTO:centre.equestre@ceyverdon.ch
END:VEVENT
BEGIN:VEVENT
DTSTART;TZID=Europe/Paris:20240705T093000
DTEND;TZID=Europe/Paris:20240705T153000
DTSTAMP:20260423T071444
CREATED:20240510T074957Z
LAST-MODIFIED:20240510T075517Z
UID:22599-1720171800-1720193400@www.centreequestreyverdon.ch
SUMMARY:Stage Horse ball & Barrel Racing
DESCRIPTION:Inscriptions à envoyer par e-mail:\nFORMULAIRE\n \n\n  \n  \n  \n  \n  \n  \n 
URL:https://www.centreequestreyverdon.ch/event/stage-horse-ball-barrel-racing/
LOCATION:Centre Equestre Yverdon-Les-Bains\, Rue des Moulins 200\, Yverdon\, 1400\, Suisse
CATEGORIES:Ecole d'équitation,Général,Poney-club
ATTACH;FMTTYPE=image/jpeg:https://www.centreequestreyverdon.ch/wp-content/uploads/2024/05/1-barrel-racing.jpg
ORGANIZER;CN="Section 'Ecole d'%C3%A9quitation'":MAILTO:centre.equestre@ceyverdon.ch
END:VEVENT
BEGIN:VEVENT
DTSTART;TZID=Europe/Paris:20240708T093000
DTEND;TZID=Europe/Paris:20240709T120000
DTSTAMP:20260423T071444
CREATED:20240510T075319Z
LAST-MODIFIED:20240510T075536Z
UID:22603-1720431000-1720526400@www.centreequestreyverdon.ch
SUMMARY:Initiations Débutants
DESCRIPTION:Inscriptions à envoyer par e-mail:\nFORMULAIRE\n \n\n  \n  \n  \n  \n  \n  \n 
URL:https://www.centreequestreyverdon.ch/event/initiations-debutants/
LOCATION:Centre Equestre Yverdon-Les-Bains\, Rue des Moulins 200\, Yverdon\, 1400\, Suisse
CATEGORIES:Ecole d'équitation,Général,Poney-club
ATTACH;FMTTYPE=image/jpeg:https://www.centreequestreyverdon.ch/wp-content/uploads/2021/10/IMG_7827-scaled.jpg
ORGANIZER;CN="Section 'Ecole d'%C3%A9quitation'":MAILTO:centre.equestre@ceyverdon.ch
END:VEVENT
BEGIN:VEVENT
DTSTART;TZID=Europe/Paris:20240711T133000
DTEND;TZID=Europe/Paris:20240712T160000
DTSTAMP:20260423T071444
CREATED:20240510T075739Z
LAST-MODIFIED:20240510T075739Z
UID:22617-1720704600-1720800000@www.centreequestreyverdon.ch
SUMMARY:Babys/Enfants Confirmés
DESCRIPTION:Inscriptions à envoyer par e-mail:\nFORMULAIRE\n \n\n  \n  \n  \n  \n  \n  \n 
URL:https://www.centreequestreyverdon.ch/event/babys-enfants-confirmes/
LOCATION:Centre Equestre Yverdon-Les-Bains\, Rue des Moulins 200\, Yverdon\, 1400\, Suisse
CATEGORIES:Ecole d'équitation,Général,Poney-club
ATTACH;FMTTYPE=image/jpeg:https://www.centreequestreyverdon.ch/wp-content/uploads/2020/11/DSC_0532-scaled.jpg
ORGANIZER;CN="Section 'Ecole d'%C3%A9quitation'":MAILTO:centre.equestre@ceyverdon.ch
END:VEVENT
BEGIN:VEVENT
DTSTART;TZID=Europe/Paris:20240715T093000
DTEND;TZID=Europe/Paris:20240720T153000
DTSTAMP:20260423T071444
CREATED:20240325T095841Z
LAST-MODIFIED:20240529T122757Z
UID:22344-1721035800-1721489400@www.centreequestreyverdon.ch
SUMMARY:Brevet
DESCRIPTION:COMPLET\n\n  \n  \n  \n  \n  \n  \n 
URL:https://www.centreequestreyverdon.ch/event/brevet-2/
LOCATION:Centre Equestre Yverdon-Les-Bains\, Rue des Moulins 200\, Yverdon\, 1400\, Suisse
CATEGORIES:Ecole d'équitation,Général,Poney-club
ATTACH;FMTTYPE=image/jpeg:https://www.centreequestreyverdon.ch/wp-content/uploads/2023/01/157c2c4b-2608-44c7-a9ac-48851e045896.jpg
ORGANIZER;CN="Section 'Ecole d'%C3%A9quitation'":MAILTO:centre.equestre@ceyverdon.ch
END:VEVENT
BEGIN:VEVENT
DTSTART;TZID=Europe/Paris:20240722T133000
DTEND;TZID=Europe/Paris:20240722T160000
DTSTAMP:20260423T071444
CREATED:20240510T075911Z
LAST-MODIFIED:20240510T075911Z
UID:22620-1721655000-1721664000@www.centreequestreyverdon.ch
SUMMARY:Stage Pony-Games
DESCRIPTION:Inscriptions à envoyer par e-mail:\nFORMULAIRE\n \n\n  \n  \n  \n  \n  \n  \n 
URL:https://www.centreequestreyverdon.ch/event/stage-pony-games/
LOCATION:Centre Equestre Yverdon-Les-Bains\, Rue des Moulins 200\, Yverdon\, 1400\, Suisse
CATEGORIES:Ecole d'équitation,Général,Poney-club
ATTACH;FMTTYPE=image/jpeg:https://www.centreequestreyverdon.ch/wp-content/uploads/2024/05/5b4a97a49251fd1a1f8b47f4.jpg
ORGANIZER;CN="Section 'Ecole d'%C3%A9quitation'":MAILTO:centre.equestre@ceyverdon.ch
END:VEVENT
BEGIN:VEVENT
DTSTART;TZID=Europe/Paris:20240723T093000
DTEND;TZID=Europe/Paris:20240723T153000
DTSTAMP:20260423T071444
CREATED:20240510T080014Z
LAST-MODIFIED:20240510T080014Z
UID:22624-1721727000-1721748600@www.centreequestreyverdon.ch
SUMMARY:Stage Dressage & Saut
DESCRIPTION:Inscriptions à envoyer par e-mail:\nFORMULAIRE\n \n\n  \n  \n  \n  \n  \n  \n 
URL:https://www.centreequestreyverdon.ch/event/stage-dressage-saut-4/
LOCATION:Centre Equestre Yverdon-Les-Bains\, Rue des Moulins 200\, Yverdon\, 1400\, Suisse
CATEGORIES:Ecole d'équitation,Général,Poney-club
ATTACH;FMTTYPE=image/jpeg:https://www.centreequestreyverdon.ch/wp-content/uploads/2023/12/AA3_6115.jpg
ORGANIZER;CN="Section 'Ecole d'%C3%A9quitation'":MAILTO:centre.equestre@ceyverdon.ch
END:VEVENT
BEGIN:VEVENT
DTSTART;TZID=Europe/Paris:20240725T093000
DTEND;TZID=Europe/Paris:20240725T120000
DTSTAMP:20260423T071444
CREATED:20240510T080127Z
LAST-MODIFIED:20240510T080127Z
UID:22629-1721899800-1721908800@www.centreequestreyverdon.ch
SUMMARY:Initiations Débutants
DESCRIPTION:Inscriptions à envoyer par e-mail:\nFORMULAIRE\n \n\n  \n  \n  \n  \n  \n  \n 
URL:https://www.centreequestreyverdon.ch/event/initiations-debutants-2/
LOCATION:Centre Equestre Yverdon-Les-Bains\, Rue des Moulins 200\, Yverdon\, 1400\, Suisse
CATEGORIES:Ecole d'équitation,Général,Poney-club
ATTACH;FMTTYPE=image/jpeg:https://www.centreequestreyverdon.ch/wp-content/uploads/2021/10/IMG_7827-scaled.jpg
ORGANIZER;CN="Section 'Ecole d'%C3%A9quitation'":MAILTO:centre.equestre@ceyverdon.ch
END:VEVENT
END:VCALENDAR