BEGIN:VCALENDAR
VERSION:2.0
PRODID:-//Centre Equestre Yverdon - ECPv6.15.17.1//NONSGML v1.0//EN
CALSCALE:GREGORIAN
METHOD:PUBLISH
X-WR-CALNAME:Centre Equestre Yverdon
X-ORIGINAL-URL:https://www.centreequestreyverdon.ch
X-WR-CALDESC:Évènements pour Centre Equestre Yverdon
REFRESH-INTERVAL;VALUE=DURATION:PT1H
X-Robots-Tag:noindex
X-PUBLISHED-TTL:PT1H
BEGIN:VTIMEZONE
TZID:Europe/Paris
BEGIN:DAYLIGHT
TZOFFSETFROM:+0100
TZOFFSETTO:+0200
TZNAME:CEST
DTSTART:20220327T010000
END:DAYLIGHT
BEGIN:STANDARD
TZOFFSETFROM:+0200
TZOFFSETTO:+0100
TZNAME:CET
DTSTART:20221030T010000
END:STANDARD
BEGIN:DAYLIGHT
TZOFFSETFROM:+0100
TZOFFSETTO:+0200
TZNAME:CEST
DTSTART:20230326T010000
END:DAYLIGHT
BEGIN:STANDARD
TZOFFSETFROM:+0200
TZOFFSETTO:+0100
TZNAME:CET
DTSTART:20231029T010000
END:STANDARD
BEGIN:DAYLIGHT
TZOFFSETFROM:+0100
TZOFFSETTO:+0200
TZNAME:CEST
DTSTART:20240331T010000
END:DAYLIGHT
BEGIN:STANDARD
TZOFFSETFROM:+0200
TZOFFSETTO:+0100
TZNAME:CET
DTSTART:20241027T010000
END:STANDARD
END:VTIMEZONE
BEGIN:VEVENT
DTSTART;VALUE=DATE:20230529
DTEND;VALUE=DATE:20231201
DTSTAMP:20260423T195802
CREATED:20230118T095415Z
LAST-MODIFIED:20230301T080143Z
UID:20136-1685318400-1701388799@www.centreequestreyverdon.ch
SUMMARY:Challenges 2023
DESCRIPTION:
URL:https://www.centreequestreyverdon.ch/event/challenges-2023/
LOCATION:Centre Equestre Yverdon-Les-Bains\, Rue des Moulins 200\, Yverdon\, 1400\, Suisse
CATEGORIES:Ecole d'équitation
ATTACH;FMTTYPE=image/jpeg:https://www.centreequestreyverdon.ch/wp-content/uploads/2023/01/Spectacle-de-chevaux-Condorcet-5.jpg
ORGANIZER;CN="Section 'Ecole d'%C3%A9quitation'":MAILTO:centre.equestre@ceyverdon.ch
END:VEVENT
BEGIN:VEVENT
DTSTART;VALUE=DATE:20230828
DTEND;VALUE=DATE:20231022
DTSTAMP:20260423T195802
CREATED:20220429T143627Z
LAST-MODIFIED:20230821T074441Z
UID:19042-1693180800-1697932799@www.centreequestreyverdon.ch
SUMMARY:Formation de base
DESCRIPTION:COMPLET\n 
URL:https://www.centreequestreyverdon.ch/event/formation-de-base/
LOCATION:Centre Equestre Yverdon-Les-Bains\, Rue des Moulins 200\, Yverdon\, 1400\, Suisse
CATEGORIES:Brevets,Ecole d'équitation,Général,Stages/formations
ATTACH;FMTTYPE=image/jpeg:https://www.centreequestreyverdon.ch/wp-content/uploads/2022/04/formation-de-base-21.010.23.jpg
END:VEVENT
BEGIN:VEVENT
DTSTART;TZID=Europe/Paris:20231016T093000
DTEND;TZID=Europe/Paris:20231017T153000
DTSTAMP:20260423T195802
CREATED:20230828T154725Z
LAST-MODIFIED:20230828T154725Z
UID:21480-1697448600-1697556600@www.centreequestreyverdon.ch
SUMMARY:Stage Multi-Disciplines
DESCRIPTION:Inscriptions à envoyer par e-mail:\nFORMULAIRE\n\n 
URL:https://www.centreequestreyverdon.ch/event/stage-multi-disciplines-2/
LOCATION:Centre Equestre Yverdon-Les-Bains\, Rue des Moulins 200\, Yverdon\, 1400\, Suisse
CATEGORIES:Ecole d'équitation,Général,Parcours d'entrainement
ATTACH;FMTTYPE=image/jpeg:https://www.centreequestreyverdon.ch/wp-content/uploads/2023/05/article-7-98.jpg
ORGANIZER;CN="Section 'Ecole d'%C3%A9quitation'":MAILTO:centre.equestre@ceyverdon.ch
END:VEVENT
BEGIN:VEVENT
DTSTART;VALUE=DATE:20231021
DTEND;VALUE=DATE:20231023
DTSTAMP:20260423T195802
CREATED:20230417T084039Z
LAST-MODIFIED:20230417T084039Z
UID:20800-1697846400-1698019199@www.centreequestreyverdon.ch
SUMMARY:Concours officiel 21 au 22 octobre 2023
DESCRIPTION:
URL:https://www.centreequestreyverdon.ch/event/concours-officiel-21-au-22-octobre-2023/
LOCATION:Centre Equestre Yverdon-Les-Bains\, Rue des Moulins 200\, Yverdon\, 1400\, Suisse
CATEGORIES:Ecole d'équitation,Général,Parcours d'entrainement
ATTACH;FMTTYPE=image/jpeg:https://www.centreequestreyverdon.ch/wp-content/uploads/2023/01/bd5707da-6b93-4f6c-9ac3-f79f323d4639.jpg
END:VEVENT
BEGIN:VEVENT
DTSTART;TZID=Europe/Paris:20231023T093000
DTEND;TZID=Europe/Paris:20231027T120000
DTSTAMP:20260423T195802
CREATED:20230828T154903Z
LAST-MODIFIED:20231009T073706Z
UID:21483-1698053400-1698408000@www.centreequestreyverdon.ch
SUMMARY:Initiations aux poneys
DESCRIPTION:Inscriptions à envoyer par e-mail:\n27 et 28 COMPLET\nFORMULAIRE\n\n  \n  \n  \n  \n  \n  \n 
URL:https://www.centreequestreyverdon.ch/event/stage-baby-enfants-2/
LOCATION:Centre Equestre Yverdon-Les-Bains\, Rue des Moulins 200\, Yverdon\, 1400\, Suisse
CATEGORIES:Ecole d'équitation,Général,Poney-club
ATTACH;FMTTYPE=image/jpeg:https://www.centreequestreyverdon.ch/wp-content/uploads/2019/01/DSC_9938.jpg
ORGANIZER;CN="Section 'Ecole d'%C3%A9quitation'":MAILTO:centre.equestre@ceyverdon.ch
END:VEVENT
BEGIN:VEVENT
DTSTART;TZID=Europe/Paris:20231023T133000
DTEND;TZID=Europe/Paris:20231027T160000
DTSTAMP:20260423T195802
CREATED:20230828T154952Z
LAST-MODIFIED:20230828T154952Z
UID:21486-1698067800-1698422400@www.centreequestreyverdon.ch
SUMMARY:Stage Baby/Enfants
DESCRIPTION:Inscriptions à envoyer par e-mail:\nFORMULAIRE\n\n  \n  \n  \n  \n  \n  \n 
URL:https://www.centreequestreyverdon.ch/event/stage-baby-enfants-3/
LOCATION:Centre Equestre Yverdon-Les-Bains\, Rue des Moulins 200\, Yverdon\, 1400\, Suisse
CATEGORIES:Ecole d'équitation,Général,Poney-club
ATTACH;FMTTYPE=image/jpeg:https://www.centreequestreyverdon.ch/wp-content/uploads/2019/01/DSC_9938.jpg
ORGANIZER;CN="Section 'Ecole d'%C3%A9quitation'":MAILTO:centre.equestre@ceyverdon.ch
END:VEVENT
BEGIN:VEVENT
DTSTART;VALUE=DATE:20231028
DTEND;VALUE=DATE:20231030
DTSTAMP:20260423T195802
CREATED:20230417T084104Z
LAST-MODIFIED:20230417T084104Z
UID:20803-1698451200-1698623999@www.centreequestreyverdon.ch
SUMMARY:Concours officiel 28 au 29 octobre 2023
DESCRIPTION:
URL:https://www.centreequestreyverdon.ch/event/concours-officiel-28-au-29-octobre-2023/
LOCATION:Centre Equestre Yverdon-Les-Bains\, Rue des Moulins 200\, Yverdon\, 1400\, Suisse
CATEGORIES:Ecole d'équitation,Général,Parcours d'entrainement
ATTACH;FMTTYPE=image/jpeg:https://www.centreequestreyverdon.ch/wp-content/uploads/2023/01/bd5707da-6b93-4f6c-9ac3-f79f323d4639.jpg
END:VEVENT
END:VCALENDAR