BEGIN:VCALENDAR
VERSION:2.0
PRODID:-//Centre Equestre Yverdon - ECPv6.15.17.1//NONSGML v1.0//EN
CALSCALE:GREGORIAN
METHOD:PUBLISH
X-WR-CALNAME:Centre Equestre Yverdon
X-ORIGINAL-URL:https://www.centreequestreyverdon.ch
X-WR-CALDESC:Évènements pour Centre Equestre Yverdon
REFRESH-INTERVAL;VALUE=DURATION:PT1H
X-Robots-Tag:noindex
X-PUBLISHED-TTL:PT1H
BEGIN:VTIMEZONE
TZID:Europe/Paris
BEGIN:DAYLIGHT
TZOFFSETFROM:+0100
TZOFFSETTO:+0200
TZNAME:CEST
DTSTART:20220327T010000
END:DAYLIGHT
BEGIN:STANDARD
TZOFFSETFROM:+0200
TZOFFSETTO:+0100
TZNAME:CET
DTSTART:20221030T010000
END:STANDARD
BEGIN:DAYLIGHT
TZOFFSETFROM:+0100
TZOFFSETTO:+0200
TZNAME:CEST
DTSTART:20230326T010000
END:DAYLIGHT
BEGIN:STANDARD
TZOFFSETFROM:+0200
TZOFFSETTO:+0100
TZNAME:CET
DTSTART:20231029T010000
END:STANDARD
BEGIN:DAYLIGHT
TZOFFSETFROM:+0100
TZOFFSETTO:+0200
TZNAME:CEST
DTSTART:20240331T010000
END:DAYLIGHT
BEGIN:STANDARD
TZOFFSETFROM:+0200
TZOFFSETTO:+0100
TZNAME:CET
DTSTART:20241027T010000
END:STANDARD
END:VTIMEZONE
BEGIN:VEVENT
DTSTART;VALUE=DATE:20230529
DTEND;VALUE=DATE:20231201
DTSTAMP:20260423T223418
CREATED:20230118T095415Z
LAST-MODIFIED:20230301T080143Z
UID:20136-1685318400-1701388799@www.centreequestreyverdon.ch
SUMMARY:Challenges 2023
DESCRIPTION:
URL:https://www.centreequestreyverdon.ch/event/challenges-2023/
LOCATION:Centre Equestre Yverdon-Les-Bains\, Rue des Moulins 200\, Yverdon\, 1400\, Suisse
CATEGORIES:Ecole d'équitation
ATTACH;FMTTYPE=image/jpeg:https://www.centreequestreyverdon.ch/wp-content/uploads/2023/01/Spectacle-de-chevaux-Condorcet-5.jpg
ORGANIZER;CN="Section 'Ecole d'%C3%A9quitation'":MAILTO:centre.equestre@ceyverdon.ch
END:VEVENT
BEGIN:VEVENT
DTSTART;TZID=Europe/Paris:20230807T093000
DTEND;TZID=Europe/Paris:20230808T120000
DTSTAMP:20260423T223418
CREATED:20230524T075812Z
LAST-MODIFIED:20230802T061920Z
UID:21030-1691400600-1691496000@www.centreequestreyverdon.ch
SUMMARY:Stage Baby/Enfants
DESCRIPTION:Inscriptions à envoyer par e-mail:\nCENTRE.EQUESTRE@CEYVERDON.CH\n\n  \n  \n  \n  \n  \n  \n 
URL:https://www.centreequestreyverdon.ch/event/stage-baby-enfants/
LOCATION:Centre Equestre Yverdon-Les-Bains\, Rue des Moulins 200\, Yverdon\, 1400\, Suisse
CATEGORIES:Ecole d'équitation,Général,Poney-club
ATTACH;FMTTYPE=image/jpeg:https://www.centreequestreyverdon.ch/wp-content/uploads/2019/01/DSC_9938.jpg
ORGANIZER;CN="Section 'Ecole d'%C3%A9quitation'":MAILTO:centre.equestre@ceyverdon.ch
END:VEVENT
BEGIN:VEVENT
DTSTART;TZID=Europe/Paris:20230807T093000
DTEND;TZID=Europe/Paris:20230808T153000
DTSTAMP:20260423T223418
CREATED:20230524T080512Z
LAST-MODIFIED:20230802T060454Z
UID:21037-1691400600-1691508600@www.centreequestreyverdon.ch
SUMMARY:Stage Cross
DESCRIPTION:Inscriptions à envoyer par e-mail:\nANNULER\n\n 
URL:https://www.centreequestreyverdon.ch/event/stage-cross/
LOCATION:Centre Equestre Yverdon-Les-Bains\, Rue des Moulins 200\, Yverdon\, 1400\, Suisse
CATEGORIES:Ecole d'équitation,Général,Parcours d'entrainement
ATTACH;FMTTYPE=image/jpeg:https://www.centreequestreyverdon.ch/wp-content/uploads/2023/05/queen-cross-maison.jpg
ORGANIZER;CN="Section 'Ecole d'%C3%A9quitation'":MAILTO:centre.equestre@ceyverdon.ch
END:VEVENT
BEGIN:VEVENT
DTSTART;TZID=Europe/Paris:20230810T093000
DTEND;TZID=Europe/Paris:20230811T153000
DTSTAMP:20260423T223418
CREATED:20230524T080111Z
LAST-MODIFIED:20230531T085218Z
UID:21033-1691659800-1691767800@www.centreequestreyverdon.ch
SUMMARY:Stage Ethologie
DESCRIPTION:Inscriptions à envoyer par e-mail:\nFORMULAIRE\n\n 
URL:https://www.centreequestreyverdon.ch/event/stage-ethologie/
LOCATION:Centre Equestre Yverdon-Les-Bains\, Rue des Moulins 200\, Yverdon\, 1400\, Suisse
CATEGORIES:Ecole d'équitation,Général,Parcours d'entrainement
ATTACH;FMTTYPE=image/jpeg:https://www.centreequestreyverdon.ch/wp-content/uploads/2023/05/article-7-98.jpg
ORGANIZER;CN="Section 'Ecole d'%C3%A9quitation'":MAILTO:centre.equestre@ceyverdon.ch
END:VEVENT
BEGIN:VEVENT
DTSTART;TZID=Europe/Paris:20230814T093000
DTEND;TZID=Europe/Paris:20230818T153000
DTSTAMP:20260423T223418
CREATED:20230524T075607Z
LAST-MODIFIED:20230531T085154Z
UID:21027-1692005400-1692372600@www.centreequestreyverdon.ch
SUMMARY:Stage Multi-disciplines Confirmé
DESCRIPTION:Inscriptions à envoyer par e-mail:\nFORMULAIRE\n\n 
URL:https://www.centreequestreyverdon.ch/event/stage-multi-disciplines-confirme/
LOCATION:Centre Equestre Yverdon-Les-Bains\, Rue des Moulins 200\, Yverdon\, 1400\, Suisse
CATEGORIES:Ecole d'équitation,Général,Parcours d'entrainement
ATTACH;FMTTYPE=image/jpeg:https://www.centreequestreyverdon.ch/wp-content/uploads/2019/07/DSC_5763.jpg
ORGANIZER;CN="Section 'Ecole d'%C3%A9quitation'":MAILTO:centre.equestre@ceyverdon.ch
END:VEVENT
BEGIN:VEVENT
DTSTART;VALUE=DATE:20230828
DTEND;VALUE=DATE:20231022
DTSTAMP:20260423T223418
CREATED:20220429T143627Z
LAST-MODIFIED:20230821T074441Z
UID:19042-1693180800-1697932799@www.centreequestreyverdon.ch
SUMMARY:Formation de base
DESCRIPTION:COMPLET\n 
URL:https://www.centreequestreyverdon.ch/event/formation-de-base/
LOCATION:Centre Equestre Yverdon-Les-Bains\, Rue des Moulins 200\, Yverdon\, 1400\, Suisse
CATEGORIES:Brevets,Ecole d'équitation,Général,Stages/formations
ATTACH;FMTTYPE=image/jpeg:https://www.centreequestreyverdon.ch/wp-content/uploads/2022/04/formation-de-base-21.010.23.jpg
END:VEVENT
END:VCALENDAR