BEGIN:VCALENDAR
VERSION:2.0
PRODID:-//Centre Equestre Yverdon - ECPv6.15.17.1//NONSGML v1.0//EN
CALSCALE:GREGORIAN
METHOD:PUBLISH
X-WR-CALNAME:Centre Equestre Yverdon
X-ORIGINAL-URL:https://www.centreequestreyverdon.ch
X-WR-CALDESC:Évènements pour Centre Equestre Yverdon
REFRESH-INTERVAL;VALUE=DURATION:PT1H
X-Robots-Tag:noindex
X-PUBLISHED-TTL:PT1H
BEGIN:VTIMEZONE
TZID:Europe/Paris
BEGIN:DAYLIGHT
TZOFFSETFROM:+0100
TZOFFSETTO:+0200
TZNAME:CEST
DTSTART:20220327T010000
END:DAYLIGHT
BEGIN:STANDARD
TZOFFSETFROM:+0200
TZOFFSETTO:+0100
TZNAME:CET
DTSTART:20221030T010000
END:STANDARD
BEGIN:DAYLIGHT
TZOFFSETFROM:+0100
TZOFFSETTO:+0200
TZNAME:CEST
DTSTART:20230326T010000
END:DAYLIGHT
BEGIN:STANDARD
TZOFFSETFROM:+0200
TZOFFSETTO:+0100
TZNAME:CET
DTSTART:20231029T010000
END:STANDARD
BEGIN:DAYLIGHT
TZOFFSETFROM:+0100
TZOFFSETTO:+0200
TZNAME:CEST
DTSTART:20240331T010000
END:DAYLIGHT
BEGIN:STANDARD
TZOFFSETFROM:+0200
TZOFFSETTO:+0100
TZNAME:CET
DTSTART:20241027T010000
END:STANDARD
END:VTIMEZONE
BEGIN:VEVENT
DTSTART;TZID=Europe/Paris:20230411T093000
DTEND;TZID=Europe/Paris:20230414T120000
DTSTAMP:20260424T040944
CREATED:20230118T100139Z
LAST-MODIFIED:20230118T100536Z
UID:20148-1681205400-1681473600@www.centreequestreyverdon.ch
SUMMARY:Stage Babys/Enfants confirmé
DESCRIPTION:
URL:https://www.centreequestreyverdon.ch/event/stage-babys-enfants-confirme/
LOCATION:Centre Equestre Yverdon-Les-Bains\, Rue des Moulins 200\, Yverdon\, 1400\, Suisse
CATEGORIES:Ecole d'équitation,Poney-club,Stages/formations
ATTACH;FMTTYPE=image/jpeg:https://www.centreequestreyverdon.ch/wp-content/uploads/2023/01/Stage-baby-confirme-5.jpg
ORGANIZER;CN="Section 'Ecole d'%C3%A9quitation'":MAILTO:centre.equestre@ceyverdon.ch
END:VEVENT
BEGIN:VEVENT
DTSTART;TZID=Europe/Paris:20230411T093000
DTEND;TZID=Europe/Paris:20230414T153000
DTSTAMP:20260424T040944
CREATED:20230118T100005Z
LAST-MODIFIED:20230118T100814Z
UID:20144-1681205400-1681486200@www.centreequestreyverdon.ch
SUMMARY:Stage dressage/saut "style"
DESCRIPTION:
URL:https://www.centreequestreyverdon.ch/event/stage-dressage-saut-style/
LOCATION:Centre Equestre Yverdon-Les-Bains\, Rue des Moulins 200\, Yverdon\, 1400\, Suisse
CATEGORIES:Ecole d'équitation,Poney-club,Stages/formations
ATTACH;FMTTYPE=image/jpeg:https://www.centreequestreyverdon.ch/wp-content/uploads/2023/01/Stage-HUNTER-5.jpg
ORGANIZER;CN="Section 'Ecole d'%C3%A9quitation'":MAILTO:centre.equestre@ceyverdon.ch
END:VEVENT
BEGIN:VEVENT
DTSTART;TZID=Europe/Paris:20230415T080000
DTEND;TZID=Europe/Paris:20230416T170000
DTSTAMP:20260424T040944
CREATED:20221205T173154Z
LAST-MODIFIED:20230317T085538Z
UID:20010-1681545600-1681664400@www.centreequestreyverdon.ch
SUMMARY:stage d'Equitation Ethologique
DESCRIPTION:Inscriptions : centre.equestre@ceyverdon.ch
URL:https://www.centreequestreyverdon.ch/event/stage-dequitation-ethologique/
LOCATION:Centre Equestre Yverdon-Les-Bains\, Rue des Moulins 200\, Yverdon\, 1400\, Suisse
CATEGORIES:Général
ATTACH;FMTTYPE=image/jpeg:https://www.centreequestreyverdon.ch/wp-content/uploads/2022/12/affiche-stage-yverdon-scaled.jpg
END:VEVENT
BEGIN:VEVENT
DTSTART;VALUE=DATE:20230429
DTEND;VALUE=DATE:20230501
DTSTAMP:20260424T040944
CREATED:20230417T083815Z
LAST-MODIFIED:20230417T083815Z
UID:20784-1682726400-1682899199@www.centreequestreyverdon.ch
SUMMARY:Concours officiel 29 au 30 avril 2023
DESCRIPTION:
URL:https://www.centreequestreyverdon.ch/event/concours-officiel-29-au-30-avril-2023/
LOCATION:Centre Equestre Yverdon-Les-Bains\, Rue des Moulins 200\, Yverdon\, 1400\, Suisse
CATEGORIES:Ecole d'équitation,Général,Parcours d'entrainement
ATTACH;FMTTYPE=image/jpeg:https://www.centreequestreyverdon.ch/wp-content/uploads/2023/01/bd5707da-6b93-4f6c-9ac3-f79f323d4639.jpg
END:VEVENT
END:VCALENDAR