BEGIN:VCALENDAR
VERSION:2.0
PRODID:-//Centre Equestre Yverdon - ECPv6.15.17.1//NONSGML v1.0//EN
CALSCALE:GREGORIAN
METHOD:PUBLISH
X-ORIGINAL-URL:https://www.centreequestreyverdon.ch
X-WR-CALDESC:Évènements pour Centre Equestre Yverdon
REFRESH-INTERVAL;VALUE=DURATION:PT1H
X-Robots-Tag:noindex
X-PUBLISHED-TTL:PT1H
BEGIN:VTIMEZONE
TZID:Europe/Paris
BEGIN:DAYLIGHT
TZOFFSETFROM:+0100
TZOFFSETTO:+0200
TZNAME:CEST
DTSTART:20220327T010000
END:DAYLIGHT
BEGIN:STANDARD
TZOFFSETFROM:+0200
TZOFFSETTO:+0100
TZNAME:CET
DTSTART:20221030T010000
END:STANDARD
BEGIN:DAYLIGHT
TZOFFSETFROM:+0100
TZOFFSETTO:+0200
TZNAME:CEST
DTSTART:20230326T010000
END:DAYLIGHT
BEGIN:STANDARD
TZOFFSETFROM:+0200
TZOFFSETTO:+0100
TZNAME:CET
DTSTART:20231029T010000
END:STANDARD
BEGIN:DAYLIGHT
TZOFFSETFROM:+0100
TZOFFSETTO:+0200
TZNAME:CEST
DTSTART:20240331T010000
END:DAYLIGHT
BEGIN:STANDARD
TZOFFSETFROM:+0200
TZOFFSETTO:+0100
TZNAME:CET
DTSTART:20241027T010000
END:STANDARD
END:VTIMEZONE
BEGIN:VEVENT
DTSTART;TZID=Europe/Paris:20230213T080000
DTEND;TZID=Europe/Paris:20230214T170000
DTSTAMP:20260424T073538
CREATED:20230117T151841Z
LAST-MODIFIED:20230117T152541Z
UID:20121-1676275200-1676394000@www.centreequestreyverdon.ch
SUMMARY:stage d'Equitation Ethologique
DESCRIPTION:Inscriptions : centre.equestre@ceyverdon.ch\n 
URL:https://www.centreequestreyverdon.ch/event/stage-dequitation-ethologique-2/
LOCATION:Centre Equestre Yverdon-Les-Bains\, Rue des Moulins 200\, Yverdon\, 1400\, Suisse
CATEGORIES:Ecole d'équitation,Général,Stages/formations
ATTACH;FMTTYPE=image/jpeg:https://www.centreequestreyverdon.ch/wp-content/uploads/2023/01/Stage-ethologie-1.jpg
END:VEVENT
BEGIN:VEVENT
DTSTART;TZID=Europe/Paris:20230216T093000
DTEND;TZID=Europe/Paris:20230217T120000
DTSTAMP:20260424T073538
CREATED:20230118T094909Z
LAST-MODIFIED:20230118T105147Z
UID:20130-1676539800-1676635200@www.centreequestreyverdon.ch
SUMMARY:Initiations aux poneys 3 - 7 ans
DESCRIPTION:
URL:https://www.centreequestreyverdon.ch/event/initiations-au-poneys/
CATEGORIES:Ecole d'équitation,Poney-club,Stages/formations
ATTACH;FMTTYPE=image/jpeg:https://www.centreequestreyverdon.ch/wp-content/uploads/2023/01/stage-initiation-baby-2023-1-1.jpg
ORGANIZER;CN="Section 'Poney-club'":MAILTO:stephanie.studer@ceyverdon.ch
END:VEVENT
END:VCALENDAR