BEGIN:VCALENDAR
VERSION:2.0
PRODID:-//Centre Equestre Yverdon - ECPv6.15.17.1//NONSGML v1.0//EN
CALSCALE:GREGORIAN
METHOD:PUBLISH
X-ORIGINAL-URL:https://www.centreequestreyverdon.ch
X-WR-CALDESC:Évènements pour Centre Equestre Yverdon
REFRESH-INTERVAL;VALUE=DURATION:PT1H
X-Robots-Tag:noindex
X-PUBLISHED-TTL:PT1H
BEGIN:VTIMEZONE
TZID:Europe/Paris
BEGIN:DAYLIGHT
TZOFFSETFROM:+0100
TZOFFSETTO:+0200
TZNAME:CEST
DTSTART:20210328T010000
END:DAYLIGHT
BEGIN:STANDARD
TZOFFSETFROM:+0200
TZOFFSETTO:+0100
TZNAME:CET
DTSTART:20211031T010000
END:STANDARD
BEGIN:DAYLIGHT
TZOFFSETFROM:+0100
TZOFFSETTO:+0200
TZNAME:CEST
DTSTART:20220327T010000
END:DAYLIGHT
BEGIN:STANDARD
TZOFFSETFROM:+0200
TZOFFSETTO:+0100
TZNAME:CET
DTSTART:20221030T010000
END:STANDARD
BEGIN:DAYLIGHT
TZOFFSETFROM:+0100
TZOFFSETTO:+0200
TZNAME:CEST
DTSTART:20230326T010000
END:DAYLIGHT
BEGIN:STANDARD
TZOFFSETFROM:+0200
TZOFFSETTO:+0100
TZNAME:CET
DTSTART:20231029T010000
END:STANDARD
END:VTIMEZONE
BEGIN:VEVENT
DTSTART;VALUE=DATE:20220917
DTEND;VALUE=DATE:20220920
DTSTAMP:20260424T164014
CREATED:20220427T132626Z
LAST-MODIFIED:20220427T132626Z
UID:19013-1663372800-1663631999@www.centreequestreyverdon.ch
SUMMARY:Concours officiel 17 au 19 septembre 2022
DESCRIPTION:
URL:https://www.centreequestreyverdon.ch/event/concours-officiel-17-au-19-septembre-2022/
LOCATION:Centre Equestre Yverdon-Les-Bains\, Rue des Moulins 200\, Yverdon\, 1400\, Suisse
CATEGORIES:Ecole d'équitation,Général,Parcours d'entrainement
ATTACH;FMTTYPE=image/jpeg:https://www.centreequestreyverdon.ch/wp-content/uploads/2019/01/Yver0918e01_Debost-Colombine_BARAKA-DU-ROZEL_0404.jpg
END:VEVENT
BEGIN:VEVENT
DTSTART;VALUE=DATE:20220922
DTEND;VALUE=DATE:20220926
DTSTAMP:20260424T164014
CREATED:20220427T132716Z
LAST-MODIFIED:20220427T132716Z
UID:19016-1663804800-1664150399@www.centreequestreyverdon.ch
SUMMARY:Concours officiel 22 au 25 septembre 2022
DESCRIPTION:
URL:https://www.centreequestreyverdon.ch/event/concours-officiel-22-au-25-septembre-2022/
LOCATION:Centre Equestre Yverdon-Les-Bains\, Rue des Moulins 200\, Yverdon\, 1400\, Suisse
CATEGORIES:Ecole d'équitation,Général,Parcours d'entrainement
ATTACH;FMTTYPE=image/jpeg:https://www.centreequestreyverdon.ch/wp-content/uploads/2019/01/Yver0918e01_Debost-Colombine_BARAKA-DU-ROZEL_0404.jpg
END:VEVENT
END:VCALENDAR