BEGIN:VCALENDAR
VERSION:2.0
PRODID:-//Centre Equestre Yverdon - ECPv6.15.17.1//NONSGML v1.0//EN
CALSCALE:GREGORIAN
METHOD:PUBLISH
X-WR-CALNAME:Centre Equestre Yverdon
X-ORIGINAL-URL:https://www.centreequestreyverdon.ch
X-WR-CALDESC:Évènements pour Centre Equestre Yverdon
REFRESH-INTERVAL;VALUE=DURATION:PT1H
X-Robots-Tag:noindex
X-PUBLISHED-TTL:PT1H
BEGIN:VTIMEZONE
TZID:Europe/Paris
BEGIN:DAYLIGHT
TZOFFSETFROM:+0100
TZOFFSETTO:+0200
TZNAME:CEST
DTSTART:20210328T010000
END:DAYLIGHT
BEGIN:STANDARD
TZOFFSETFROM:+0200
TZOFFSETTO:+0100
TZNAME:CET
DTSTART:20211031T010000
END:STANDARD
BEGIN:DAYLIGHT
TZOFFSETFROM:+0100
TZOFFSETTO:+0200
TZNAME:CEST
DTSTART:20220327T010000
END:DAYLIGHT
BEGIN:STANDARD
TZOFFSETFROM:+0200
TZOFFSETTO:+0100
TZNAME:CET
DTSTART:20221030T010000
END:STANDARD
BEGIN:DAYLIGHT
TZOFFSETFROM:+0100
TZOFFSETTO:+0200
TZNAME:CEST
DTSTART:20230326T010000
END:DAYLIGHT
BEGIN:STANDARD
TZOFFSETFROM:+0200
TZOFFSETTO:+0100
TZNAME:CET
DTSTART:20231029T010000
END:STANDARD
END:VTIMEZONE
BEGIN:VEVENT
DTSTART;VALUE=DATE:20220402
DTEND;VALUE=DATE:20220403
DTSTAMP:20260425T001403
CREATED:20220302T130200Z
LAST-MODIFIED:20220302T130200Z
UID:18559-1648857600-1648943999@www.centreequestreyverdon.ch
SUMMARY:Parcours "Concours" pour groupes de cavaliers
DESCRIPTION:
URL:https://www.centreequestreyverdon.ch/event/parcours-concours-pour-groupes-de-cavaliers-3/
LOCATION:Centre Equestre Yverdon-Les-Bains\, Rue des Moulins 200\, Yverdon\, 1400\, Suisse
CATEGORIES:Ecole d'équitation,Général,Parcours d'entrainement
ATTACH;FMTTYPE=image/jpeg:https://www.centreequestreyverdon.ch/wp-content/uploads/2019/01/Yver0918e01_Debost-Colombine_BARAKA-DU-ROZEL_0404.jpg
END:VEVENT
BEGIN:VEVENT
DTSTART;VALUE=DATE:20220403
DTEND;VALUE=DATE:20220404
DTSTAMP:20260425T001403
CREATED:20220302T130016Z
LAST-MODIFIED:20220302T130016Z
UID:18550-1648944000-1649030399@www.centreequestreyverdon.ch
SUMMARY:Parcours d'entraînements
DESCRIPTION:
URL:https://www.centreequestreyverdon.ch/event/parcours-dentrainements-3/
LOCATION:Centre Equestre Yverdon-Les-Bains\, Rue des Moulins 200\, Yverdon\, 1400\, Suisse
CATEGORIES:Ecole d'équitation,Général,Parcours d'entrainement
ATTACH;FMTTYPE=image/jpeg:https://www.centreequestreyverdon.ch/wp-content/uploads/2019/01/Yver0918e01_Debost-Colombine_BARAKA-DU-ROZEL_0404.jpg
END:VEVENT
BEGIN:VEVENT
DTSTART;TZID=Europe/Paris:20220420T090000
DTEND;TZID=Europe/Paris:20220420T120000
DTSTAMP:20260425T001403
CREATED:20220321T125447Z
LAST-MODIFIED:20220321T125447Z
UID:18670-1650445200-1650456000@www.centreequestreyverdon.ch
SUMMARY:Matinée Initiation - 3-7ans
DESCRIPTION:Inscription par e-mail : centre.equestre@ceyverdon.ch\n  \n \n  \n  \n  \n 
URL:https://www.centreequestreyverdon.ch/event/matinee-initiation-3-7ans-6/
LOCATION:Centre Equestre Yverdon-Les-Bains\, Rue des Moulins 200\, Yverdon\, 1400\, Suisse
CATEGORIES:Ecole d'équitation,Général,Poney-club
ATTACH;FMTTYPE=image/png:https://www.centreequestreyverdon.ch/wp-content/uploads/2022/01/7ef88cb0cc9c4f079569fd4e9c686373.png
ORGANIZER;CN="Section 'Ecole d'%C3%A9quitation'":MAILTO:centre.equestre@ceyverdon.ch
END:VEVENT
BEGIN:VEVENT
DTSTART;TZID=Europe/Paris:20220427T090000
DTEND;TZID=Europe/Paris:20220427T120000
DTSTAMP:20260425T001403
CREATED:20220321T125514Z
LAST-MODIFIED:20220321T125514Z
UID:18674-1651050000-1651060800@www.centreequestreyverdon.ch
SUMMARY:Matinée Initiation - 3-7ans
DESCRIPTION:Inscription par e-mail : centre.equestre@ceyverdon.ch\n  \n \n  \n  \n  \n 
URL:https://www.centreequestreyverdon.ch/event/matinee-initiation-3-7ans-7/
LOCATION:Centre Equestre Yverdon-Les-Bains\, Rue des Moulins 200\, Yverdon\, 1400\, Suisse
CATEGORIES:Ecole d'équitation,Général,Poney-club
ATTACH;FMTTYPE=image/png:https://www.centreequestreyverdon.ch/wp-content/uploads/2022/01/7ef88cb0cc9c4f079569fd4e9c686373.png
ORGANIZER;CN="Section 'Ecole d'%C3%A9quitation'":MAILTO:centre.equestre@ceyverdon.ch
END:VEVENT
BEGIN:VEVENT
DTSTART;VALUE=DATE:20220429
DTEND;VALUE=DATE:20220502
DTSTAMP:20260425T001403
CREATED:20220427T132447Z
LAST-MODIFIED:20220427T132447Z
UID:19007-1651190400-1651449599@www.centreequestreyverdon.ch
SUMMARY:Concours officiel 29 avril au 1er mai 2022
DESCRIPTION:
URL:https://www.centreequestreyverdon.ch/event/concours-officiel-29-avril-au-1er-mai-2022/
LOCATION:Centre Equestre Yverdon-Les-Bains\, Rue des Moulins 200\, Yverdon\, 1400\, Suisse
CATEGORIES:Ecole d'équitation,Général,Parcours d'entrainement
ATTACH;FMTTYPE=image/jpeg:https://www.centreequestreyverdon.ch/wp-content/uploads/2019/01/Yver0918e01_Debost-Colombine_BARAKA-DU-ROZEL_0404.jpg
END:VEVENT
END:VCALENDAR