BEGIN:VCALENDAR
VERSION:2.0
PRODID:-//Centre Equestre Yverdon - ECPv6.15.17.1//NONSGML v1.0//EN
CALSCALE:GREGORIAN
METHOD:PUBLISH
X-WR-CALNAME:Centre Equestre Yverdon
X-ORIGINAL-URL:https://www.centreequestreyverdon.ch
X-WR-CALDESC:Évènements pour Centre Equestre Yverdon
REFRESH-INTERVAL;VALUE=DURATION:PT1H
X-Robots-Tag:noindex
X-PUBLISHED-TTL:PT1H
BEGIN:VTIMEZONE
TZID:Europe/Paris
BEGIN:DAYLIGHT
TZOFFSETFROM:+0100
TZOFFSETTO:+0200
TZNAME:CEST
DTSTART:20210328T010000
END:DAYLIGHT
BEGIN:STANDARD
TZOFFSETFROM:+0200
TZOFFSETTO:+0100
TZNAME:CET
DTSTART:20211031T010000
END:STANDARD
BEGIN:DAYLIGHT
TZOFFSETFROM:+0100
TZOFFSETTO:+0200
TZNAME:CEST
DTSTART:20220327T010000
END:DAYLIGHT
BEGIN:STANDARD
TZOFFSETFROM:+0200
TZOFFSETTO:+0100
TZNAME:CET
DTSTART:20221030T010000
END:STANDARD
BEGIN:DAYLIGHT
TZOFFSETFROM:+0100
TZOFFSETTO:+0200
TZNAME:CEST
DTSTART:20230326T010000
END:DAYLIGHT
BEGIN:STANDARD
TZOFFSETFROM:+0200
TZOFFSETTO:+0100
TZNAME:CET
DTSTART:20231029T010000
END:STANDARD
END:VTIMEZONE
BEGIN:VEVENT
DTSTART;VALUE=DATE:20220205
DTEND;VALUE=DATE:20220206
DTSTAMP:20260425T024143
CREATED:20211213T132108Z
LAST-MODIFIED:20211213T132108Z
UID:18257-1644019200-1644105599@www.centreequestreyverdon.ch
SUMMARY:Stage avec Martial Perrin
DESCRIPTION:Inscriptions : centre.equestre@ceyverdon.ch\n\n\n  \n 
URL:https://www.centreequestreyverdon.ch/event/stage-avec-martial-perrin-14/
LOCATION:Centre Equestre Yverdon-Les-Bains\, Rue des Moulins 200\, Yverdon\, 1400\, Suisse
CATEGORIES:Ecole d'équitation,Général,Parcours d'entrainement
ATTACH;FMTTYPE=image/jpeg:https://www.centreequestreyverdon.ch/wp-content/uploads/2019/01/Yver0918e01_Debost-Colombine_BARAKA-DU-ROZEL_0404.jpg
END:VEVENT
BEGIN:VEVENT
DTSTART;VALUE=DATE:20220212
DTEND;VALUE=DATE:20220213
DTSTAMP:20260425T024143
CREATED:20211213T132137Z
LAST-MODIFIED:20211213T132137Z
UID:18261-1644624000-1644710399@www.centreequestreyverdon.ch
SUMMARY:Stage avec Martial Perrin
DESCRIPTION:Inscriptions : centre.equestre@ceyverdon.ch\n\n\n  \n 
URL:https://www.centreequestreyverdon.ch/event/stage-avec-martial-perrin-15/
LOCATION:Centre Equestre Yverdon-Les-Bains\, Rue des Moulins 200\, Yverdon\, 1400\, Suisse
CATEGORIES:Ecole d'équitation,Général,Parcours d'entrainement
ATTACH;FMTTYPE=image/jpeg:https://www.centreequestreyverdon.ch/wp-content/uploads/2019/01/Yver0918e01_Debost-Colombine_BARAKA-DU-ROZEL_0404.jpg
END:VEVENT
BEGIN:VEVENT
DTSTART;VALUE=DATE:20220219
DTEND;VALUE=DATE:20220220
DTSTAMP:20260425T024143
CREATED:20220204T121056Z
LAST-MODIFIED:20220204T121056Z
UID:18428-1645228800-1645315199@www.centreequestreyverdon.ch
SUMMARY:Stage avec Martial Perrin
DESCRIPTION:Inscriptions : centre.equestre@ceyverdon.ch\n\n\n  \n 
URL:https://www.centreequestreyverdon.ch/event/stage-avec-martial-perrin-16/
LOCATION:Centre Equestre Yverdon-Les-Bains\, Rue des Moulins 200\, Yverdon\, 1400\, Suisse
CATEGORIES:Ecole d'équitation,Général,Parcours d'entrainement
ATTACH;FMTTYPE=image/jpeg:https://www.centreequestreyverdon.ch/wp-content/uploads/2019/01/Yver0918e01_Debost-Colombine_BARAKA-DU-ROZEL_0404.jpg
END:VEVENT
BEGIN:VEVENT
DTSTART;TZID=Europe/Paris:20220221T090000
DTEND;TZID=Europe/Paris:20220221T120000
DTSTAMP:20260425T024143
CREATED:20220131T144033Z
LAST-MODIFIED:20220131T144033Z
UID:18402-1645434000-1645444800@www.centreequestreyverdon.ch
SUMMARY:Matinée Initiation - 3-7ans
DESCRIPTION:Inscription par e-mail : centre.equestre@ceyverdon.ch\n  \n \n  \n  \n  \n 
URL:https://www.centreequestreyverdon.ch/event/matinee-initiation-3-7ans-3/
LOCATION:Centre Equestre Yverdon-Les-Bains\, Rue des Moulins 200\, Yverdon\, 1400\, Suisse
CATEGORIES:Ecole d'équitation,Général,Poney-club
ATTACH;FMTTYPE=image/png:https://www.centreequestreyverdon.ch/wp-content/uploads/2022/01/7ef88cb0cc9c4f079569fd4e9c686373.png
ORGANIZER;CN="Section 'Ecole d'%C3%A9quitation'":MAILTO:centre.equestre@ceyverdon.ch
END:VEVENT
BEGIN:VEVENT
DTSTART;TZID=Europe/Paris:20220222T090000
DTEND;TZID=Europe/Paris:20220222T120000
DTSTAMP:20260425T024143
CREATED:20220131T144100Z
LAST-MODIFIED:20220131T144100Z
UID:18407-1645520400-1645531200@www.centreequestreyverdon.ch
SUMMARY:Matinée Initiation - 3-7ans
DESCRIPTION:Inscription par e-mail : centre.equestre@ceyverdon.ch\n  \n \n  \n  \n  \n 
URL:https://www.centreequestreyverdon.ch/event/matinee-initiation-3-7ans-4/
LOCATION:Centre Equestre Yverdon-Les-Bains\, Rue des Moulins 200\, Yverdon\, 1400\, Suisse
CATEGORIES:Ecole d'équitation,Général,Poney-club
ATTACH;FMTTYPE=image/png:https://www.centreequestreyverdon.ch/wp-content/uploads/2022/01/7ef88cb0cc9c4f079569fd4e9c686373.png
ORGANIZER;CN="Section 'Ecole d'%C3%A9quitation'":MAILTO:centre.equestre@ceyverdon.ch
END:VEVENT
BEGIN:VEVENT
DTSTART;VALUE=DATE:20220224
DTEND;VALUE=DATE:20220225
DTSTAMP:20260425T024143
CREATED:20220131T150745Z
LAST-MODIFIED:20220131T150745Z
UID:18414-1645660800-1645747199@www.centreequestreyverdon.ch
SUMMARY:Stage "Préparation à la compétition"
DESCRIPTION:Inscriptions : centre.equestre@ceyverdon.ch\n\n\n  \n 
URL:https://www.centreequestreyverdon.ch/event/stage-preparation-a-la-competition-2/
LOCATION:Centre Equestre Yverdon-Les-Bains\, Rue des Moulins 200\, Yverdon\, 1400\, Suisse
CATEGORIES:Ecole d'équitation,Général,Parcours d'entrainement
ATTACH;FMTTYPE=image/jpeg:https://www.centreequestreyverdon.ch/wp-content/uploads/2019/01/Yver0918e01_Debost-Colombine_BARAKA-DU-ROZEL_0404.jpg
END:VEVENT
BEGIN:VEVENT
DTSTART;TZID=Europe/Paris:20220225T090000
DTEND;TZID=Europe/Paris:20220225T120000
DTSTAMP:20260425T024143
CREATED:20220131T144124Z
LAST-MODIFIED:20220131T144124Z
UID:18410-1645779600-1645790400@www.centreequestreyverdon.ch
SUMMARY:Matinée Initiation - 3-7ans
DESCRIPTION:Inscription par e-mail : centre.equestre@ceyverdon.ch\n  \n \n  \n  \n  \n 
URL:https://www.centreequestreyverdon.ch/event/matinee-initiation-3-7ans-5/
LOCATION:Centre Equestre Yverdon-Les-Bains\, Rue des Moulins 200\, Yverdon\, 1400\, Suisse
CATEGORIES:Ecole d'équitation,Général,Poney-club
ATTACH;FMTTYPE=image/png:https://www.centreequestreyverdon.ch/wp-content/uploads/2022/01/7ef88cb0cc9c4f079569fd4e9c686373.png
ORGANIZER;CN="Section 'Ecole d'%C3%A9quitation'":MAILTO:centre.equestre@ceyverdon.ch
END:VEVENT
BEGIN:VEVENT
DTSTART;VALUE=DATE:20220226
DTEND;VALUE=DATE:20220227
DTSTAMP:20260425T024143
CREATED:20220204T121118Z
LAST-MODIFIED:20220204T121118Z
UID:18432-1645833600-1645919999@www.centreequestreyverdon.ch
SUMMARY:Stage avec Martial Perrin
DESCRIPTION:Inscriptions : centre.equestre@ceyverdon.ch\n\n\n  \n 
URL:https://www.centreequestreyverdon.ch/event/stage-avec-martial-perrin-17/
LOCATION:Centre Equestre Yverdon-Les-Bains\, Rue des Moulins 200\, Yverdon\, 1400\, Suisse
CATEGORIES:Ecole d'équitation,Général,Parcours d'entrainement
ATTACH;FMTTYPE=image/jpeg:https://www.centreequestreyverdon.ch/wp-content/uploads/2019/01/Yver0918e01_Debost-Colombine_BARAKA-DU-ROZEL_0404.jpg
END:VEVENT
END:VCALENDAR