BEGIN:VCALENDAR
VERSION:2.0
PRODID:-//Centre Equestre Yverdon - ECPv6.15.17.1//NONSGML v1.0//EN
CALSCALE:GREGORIAN
METHOD:PUBLISH
X-ORIGINAL-URL:https://www.centreequestreyverdon.ch
X-WR-CALDESC:Évènements pour Centre Equestre Yverdon
REFRESH-INTERVAL;VALUE=DURATION:PT1H
X-Robots-Tag:noindex
X-PUBLISHED-TTL:PT1H
BEGIN:VTIMEZONE
TZID:Europe/Paris
BEGIN:DAYLIGHT
TZOFFSETFROM:+0100
TZOFFSETTO:+0200
TZNAME:CEST
DTSTART:20210328T010000
END:DAYLIGHT
BEGIN:STANDARD
TZOFFSETFROM:+0200
TZOFFSETTO:+0100
TZNAME:CET
DTSTART:20211031T010000
END:STANDARD
BEGIN:DAYLIGHT
TZOFFSETFROM:+0100
TZOFFSETTO:+0200
TZNAME:CEST
DTSTART:20220327T010000
END:DAYLIGHT
BEGIN:STANDARD
TZOFFSETFROM:+0200
TZOFFSETTO:+0100
TZNAME:CET
DTSTART:20221030T010000
END:STANDARD
BEGIN:DAYLIGHT
TZOFFSETFROM:+0100
TZOFFSETTO:+0200
TZNAME:CEST
DTSTART:20230326T010000
END:DAYLIGHT
BEGIN:STANDARD
TZOFFSETFROM:+0200
TZOFFSETTO:+0100
TZNAME:CET
DTSTART:20231029T010000
END:STANDARD
END:VTIMEZONE
BEGIN:VEVENT
DTSTART;TZID=Europe/Paris:20220102T140000
DTEND;TZID=Europe/Paris:20220102T170000
DTSTAMP:20260425T040649
CREATED:20211213T125128Z
LAST-MODIFIED:20211213T141300Z
UID:18242-1641132000-1641142800@www.centreequestreyverdon.ch
SUMMARY:Matinée Initiation - 3-7ans
DESCRIPTION:Inscription par e-mail : centre.equestre@ceyverdon.ch\n  \n \n  \n  \n  \n 
URL:https://www.centreequestreyverdon.ch/event/matinee-initiation-3-7ans/
LOCATION:Centre Equestre Yverdon-Les-Bains\, Rue des Moulins 200\, Yverdon\, 1400\, Suisse
CATEGORIES:Ecole d'équitation,Général,Poney-club
ATTACH;FMTTYPE=image/jpeg:https://www.centreequestreyverdon.ch/wp-content/uploads/2021/12/Poney-Noel.jpg
ORGANIZER;CN="Section 'Ecole d'%C3%A9quitation'":MAILTO:centre.equestre@ceyverdon.ch
END:VEVENT
BEGIN:VEVENT
DTSTART;TZID=Europe/Paris:20220104T090000
DTEND;TZID=Europe/Paris:20220104T120000
DTSTAMP:20260425T040649
CREATED:20211213T125551Z
LAST-MODIFIED:20211213T125551Z
UID:18253-1641286800-1641297600@www.centreequestreyverdon.ch
SUMMARY:Stage Equifun - Dès 7 ans
DESCRIPTION:Inscription par e-mail : centre.equestre@ceyverdon.ch\n  \n \n  \n  \n  \n 
URL:https://www.centreequestreyverdon.ch/event/stage-equifun-des-7-ans/
LOCATION:Centre Equestre Yverdon-Les-Bains\, Rue des Moulins 200\, Yverdon\, 1400\, Suisse
CATEGORIES:Ecole d'équitation,Général,Poney-club
ATTACH;FMTTYPE=image/jpeg:https://www.centreequestreyverdon.ch/wp-content/uploads/2021/12/Poney-Noel.jpg
ORGANIZER;CN="Section 'Ecole d'%C3%A9quitation'":MAILTO:centre.equestre@ceyverdon.ch
END:VEVENT
BEGIN:VEVENT
DTSTART;TZID=Europe/Paris:20220107T140000
DTEND;TZID=Europe/Paris:20220107T170000
DTSTAMP:20260425T040649
CREATED:20211213T125235Z
LAST-MODIFIED:20211213T141226Z
UID:18247-1641564000-1641574800@www.centreequestreyverdon.ch
SUMMARY:Matinée Initiation - 3-7ans
DESCRIPTION:Inscription par e-mail : centre.equestre@ceyverdon.ch\n  \n \n  \n  \n  \n 
URL:https://www.centreequestreyverdon.ch/event/matinee-initiation-3-7ans-2/
LOCATION:Centre Equestre Yverdon-Les-Bains\, Rue des Moulins 200\, Yverdon\, 1400\, Suisse
CATEGORIES:Ecole d'équitation,Général,Poney-club
ATTACH;FMTTYPE=image/jpeg:https://www.centreequestreyverdon.ch/wp-content/uploads/2021/12/Poney-Noel.jpg
ORGANIZER;CN="Section 'Ecole d'%C3%A9quitation'":MAILTO:centre.equestre@ceyverdon.ch
END:VEVENT
END:VCALENDAR