BEGIN:VCALENDAR
VERSION:2.0
PRODID:-//Centre Equestre Yverdon - ECPv6.15.17.1//NONSGML v1.0//EN
CALSCALE:GREGORIAN
METHOD:PUBLISH
X-ORIGINAL-URL:https://www.centreequestreyverdon.ch
X-WR-CALDESC:Évènements pour Centre Equestre Yverdon
REFRESH-INTERVAL;VALUE=DURATION:PT1H
X-Robots-Tag:noindex
X-PUBLISHED-TTL:PT1H
BEGIN:VTIMEZONE
TZID:Europe/Paris
BEGIN:DAYLIGHT
TZOFFSETFROM:+0100
TZOFFSETTO:+0200
TZNAME:CEST
DTSTART:20200329T010000
END:DAYLIGHT
BEGIN:STANDARD
TZOFFSETFROM:+0200
TZOFFSETTO:+0100
TZNAME:CET
DTSTART:20201025T010000
END:STANDARD
BEGIN:DAYLIGHT
TZOFFSETFROM:+0100
TZOFFSETTO:+0200
TZNAME:CEST
DTSTART:20210328T010000
END:DAYLIGHT
BEGIN:STANDARD
TZOFFSETFROM:+0200
TZOFFSETTO:+0100
TZNAME:CET
DTSTART:20211031T010000
END:STANDARD
BEGIN:DAYLIGHT
TZOFFSETFROM:+0100
TZOFFSETTO:+0200
TZNAME:CEST
DTSTART:20220327T010000
END:DAYLIGHT
BEGIN:STANDARD
TZOFFSETFROM:+0200
TZOFFSETTO:+0100
TZNAME:CET
DTSTART:20221030T010000
END:STANDARD
END:VTIMEZONE
BEGIN:VEVENT
DTSTART;VALUE=DATE:20211205
DTEND;VALUE=DATE:20211206
DTSTAMP:20260425T052308
CREATED:20211114T143149Z
LAST-MODIFIED:20211115T164252Z
UID:18176-1638662400-1638748799@www.centreequestreyverdon.ch
SUMMARY:Challenge de Noël
DESCRIPTION:Inscriptions par e-mail : centre.equestre@ceyverdon.ch\n \n  \n  \n 
URL:https://www.centreequestreyverdon.ch/event/challenge-de-noel/
LOCATION:Centre Equestre Yverdon-Les-Bains\, Rue des Moulins 200\, Yverdon\, 1400\, Suisse
CATEGORIES:Ecole d'équitation,Général,Poney-club
ATTACH;FMTTYPE=image/jpeg:https://www.centreequestreyverdon.ch/wp-content/uploads/2021/11/unnamed.jpg
ORGANIZER;CN="Section 'Ecole d'%C3%A9quitation'":MAILTO:centre.equestre@ceyverdon.ch
END:VEVENT
BEGIN:VEVENT
DTSTART;VALUE=DATE:20211219
DTEND;VALUE=DATE:20211220
DTSTAMP:20260425T052308
CREATED:20211114T143431Z
LAST-MODIFIED:20211115T164315Z
UID:18182-1639872000-1639958399@www.centreequestreyverdon.ch
SUMMARY:Puissance
DESCRIPTION:Inscriptions par e-mail : centre.equestre@ceyverdon.ch\n \n  \n  \n 
URL:https://www.centreequestreyverdon.ch/event/puissance/
LOCATION:Centre Equestre Yverdon-Les-Bains\, Rue des Moulins 200\, Yverdon\, 1400\, Suisse
CATEGORIES:Ecole d'équitation,Général,Poney-club
ATTACH;FMTTYPE=image/jpeg:https://www.centreequestreyverdon.ch/wp-content/uploads/2021/11/unnamed.jpg
ORGANIZER;CN="Section 'Ecole d'%C3%A9quitation'":MAILTO:centre.equestre@ceyverdon.ch
END:VEVENT
END:VCALENDAR