BEGIN:VCALENDAR
VERSION:2.0
PRODID:-//Centre Equestre Yverdon - ECPv6.15.17.1//NONSGML v1.0//EN
CALSCALE:GREGORIAN
METHOD:PUBLISH
X-ORIGINAL-URL:https://www.centreequestreyverdon.ch
X-WR-CALDESC:Évènements pour Centre Equestre Yverdon
REFRESH-INTERVAL;VALUE=DURATION:PT1H
X-Robots-Tag:noindex
X-PUBLISHED-TTL:PT1H
BEGIN:VTIMEZONE
TZID:Europe/Paris
BEGIN:DAYLIGHT
TZOFFSETFROM:+0100
TZOFFSETTO:+0200
TZNAME:CEST
DTSTART:20200329T010000
END:DAYLIGHT
BEGIN:STANDARD
TZOFFSETFROM:+0200
TZOFFSETTO:+0100
TZNAME:CET
DTSTART:20201025T010000
END:STANDARD
BEGIN:DAYLIGHT
TZOFFSETFROM:+0100
TZOFFSETTO:+0200
TZNAME:CEST
DTSTART:20210328T010000
END:DAYLIGHT
BEGIN:STANDARD
TZOFFSETFROM:+0200
TZOFFSETTO:+0100
TZNAME:CET
DTSTART:20211031T010000
END:STANDARD
BEGIN:DAYLIGHT
TZOFFSETFROM:+0100
TZOFFSETTO:+0200
TZNAME:CEST
DTSTART:20220327T010000
END:DAYLIGHT
BEGIN:STANDARD
TZOFFSETFROM:+0200
TZOFFSETTO:+0100
TZNAME:CET
DTSTART:20221030T010000
END:STANDARD
END:VTIMEZONE
BEGIN:VEVENT
DTSTART;VALUE=DATE:20210207
DTEND;VALUE=DATE:20210208
DTSTAMP:20260425T190952
CREATED:20210107T154536Z
LAST-MODIFIED:20210118T130219Z
UID:15976-1612656000-1612742399@www.centreequestreyverdon.ch
SUMMARY:Stage avec Martial Perrin
DESCRIPTION:Inscriptions : centre.equestre@ceyverdon.ch\nDates supplémentaires : 14 et 21 février 2021\n 
URL:https://www.centreequestreyverdon.ch/event/stage-avec-martial-perrin-5/
LOCATION:Centre Equestre Yverdon-Les-Bains\, Rue des Moulins 200\, Yverdon\, 1400\, Suisse
CATEGORIES:Ecole d'équitation,Général,Parcours d'entrainement
ATTACH;FMTTYPE=image/jpeg:https://www.centreequestreyverdon.ch/wp-content/uploads/2019/01/Yver0918e01_Debost-Colombine_BARAKA-DU-ROZEL_0404.jpg
END:VEVENT
BEGIN:VEVENT
DTSTART;VALUE=DATE:20210214
DTEND;VALUE=DATE:20210215
DTSTAMP:20260425T190952
CREATED:20210118T130052Z
LAST-MODIFIED:20210118T130052Z
UID:16027-1613260800-1613347199@www.centreequestreyverdon.ch
SUMMARY:Stage avec Martial Perrin
DESCRIPTION:Inscriptions : centre.equestre@ceyverdon.ch\n\nDates supplémentaires : 14 et 21 février 2021\n 
URL:https://www.centreequestreyverdon.ch/event/stage-avec-martial-perrin-6/
LOCATION:Centre Equestre Yverdon-Les-Bains\, Rue des Moulins 200\, Yverdon\, 1400\, Suisse
CATEGORIES:Ecole d'équitation,Général,Parcours d'entrainement
ATTACH;FMTTYPE=image/jpeg:https://www.centreequestreyverdon.ch/wp-content/uploads/2019/01/Yver0918e01_Debost-Colombine_BARAKA-DU-ROZEL_0404.jpg
END:VEVENT
BEGIN:VEVENT
DTSTART;VALUE=DATE:20210221
DTEND;VALUE=DATE:20210222
DTSTAMP:20260425T190952
CREATED:20210118T130120Z
LAST-MODIFIED:20210118T130120Z
UID:16030-1613865600-1613951999@www.centreequestreyverdon.ch
SUMMARY:Stage avec Martial Perrin
DESCRIPTION:Inscriptions : centre.equestre@ceyverdon.ch\n\nDates supplémentaires : 14 et 21 février 2021\n 
URL:https://www.centreequestreyverdon.ch/event/stage-avec-martial-perrin-7/
LOCATION:Centre Equestre Yverdon-Les-Bains\, Rue des Moulins 200\, Yverdon\, 1400\, Suisse
CATEGORIES:Ecole d'équitation,Général,Parcours d'entrainement
ATTACH;FMTTYPE=image/jpeg:https://www.centreequestreyverdon.ch/wp-content/uploads/2019/01/Yver0918e01_Debost-Colombine_BARAKA-DU-ROZEL_0404.jpg
END:VEVENT
BEGIN:VEVENT
DTSTART;TZID=Europe/Paris:20210222T090000
DTEND;TZID=Europe/Paris:20210222T120000
DTSTAMP:20260425T190952
CREATED:20210209T083912Z
LAST-MODIFIED:20210215T114612Z
UID:16113-1613984400-1613995200@www.centreequestreyverdon.ch
SUMMARY:Matinée initiation à l'équitation 3-7ans - COMPLET
DESCRIPTION:COMPLET\n\n \n  \n  \n 
URL:https://www.centreequestreyverdon.ch/event/matinee-initiation-a-lequitation-3-7ans-2/
LOCATION:Centre Equestre Yverdon-Les-Bains\, Rue des Moulins 200\, Yverdon\, 1400\, Suisse
CATEGORIES:Ecole d'équitation,Général,Poney-club
ATTACH;FMTTYPE=image/jpeg:https://www.centreequestreyverdon.ch/wp-content/uploads/2019/01/DSC_9938.jpg
ORGANIZER;CN="Section 'Ecole d'%C3%A9quitation'":MAILTO:centre.equestre@ceyverdon.ch
END:VEVENT
BEGIN:VEVENT
DTSTART;TZID=Europe/Paris:20210223T090000
DTEND;TZID=Europe/Paris:20210223T160000
DTSTAMP:20260425T190952
CREATED:20210127T155731Z
LAST-MODIFIED:20210217T124413Z
UID:16069-1614070800-1614096000@www.centreequestreyverdon.ch
SUMMARY:Stage Dressage & Saut - COMPLET
DESCRIPTION:COMPLET
URL:https://www.centreequestreyverdon.ch/event/stage-dressage-saut/
LOCATION:Centre Equestre Yverdon-Les-Bains\, Rue des Moulins 200\, Yverdon\, 1400\, Suisse
CATEGORIES:Ecole d'équitation,Général,Parcours d'entrainement
ATTACH;FMTTYPE=image/jpeg:https://www.centreequestreyverdon.ch/wp-content/uploads/2019/03/DSC_1224.jpg
ORGANIZER;CN="Section 'Ecole d'%C3%A9quitation'":MAILTO:centre.equestre@ceyverdon.ch
END:VEVENT
BEGIN:VEVENT
DTSTART;TZID=Europe/Paris:20210225T090000
DTEND;TZID=Europe/Paris:20210225T120000
DTSTAMP:20260425T190952
CREATED:20210215T140927Z
LAST-MODIFIED:20210215T140927Z
UID:16153-1614243600-1614254400@www.centreequestreyverdon.ch
SUMMARY:Matinée initiation à l'équitation 3-7ans
DESCRIPTION:Inscriptions : centre.equestre@ceyverdon.ch\n \n  \n  \n 
URL:https://www.centreequestreyverdon.ch/event/matinee-initiation-a-lequitation-3-7ans-3/
LOCATION:Centre Equestre Yverdon-Les-Bains\, Rue des Moulins 200\, Yverdon\, 1400\, Suisse
CATEGORIES:Ecole d'équitation,Général,Poney-club
ATTACH;FMTTYPE=image/jpeg:https://www.centreequestreyverdon.ch/wp-content/uploads/2019/01/DSC_9938.jpg
ORGANIZER;CN="Section 'Ecole d'%C3%A9quitation'":MAILTO:centre.equestre@ceyverdon.ch
END:VEVENT
BEGIN:VEVENT
DTSTART;TZID=Europe/Paris:20210226T090000
DTEND;TZID=Europe/Paris:20210226T120000
DTSTAMP:20260425T190952
CREATED:20210127T155612Z
LAST-MODIFIED:20210209T083759Z
UID:16065-1614330000-1614340800@www.centreequestreyverdon.ch
SUMMARY:Matinée initiation à l'équitation 3-7ans - COMPLET
DESCRIPTION:COMPLET\n \n  \n  \n 
URL:https://www.centreequestreyverdon.ch/event/matinee-initiation-a-lequitation-3-7ans/
LOCATION:Centre Equestre Yverdon-Les-Bains\, Rue des Moulins 200\, Yverdon\, 1400\, Suisse
CATEGORIES:Ecole d'équitation,Général,Poney-club
ATTACH;FMTTYPE=image/jpeg:https://www.centreequestreyverdon.ch/wp-content/uploads/2019/01/DSC_9938.jpg
ORGANIZER;CN="Section 'Ecole d'%C3%A9quitation'":MAILTO:centre.equestre@ceyverdon.ch
END:VEVENT
BEGIN:VEVENT
DTSTART;VALUE=DATE:20210228
DTEND;VALUE=DATE:20210301
DTSTAMP:20260425T190952
CREATED:20210203T131611Z
LAST-MODIFIED:20210203T131611Z
UID:16085-1614470400-1614556799@www.centreequestreyverdon.ch
SUMMARY:Stage avec Martial Perrin
DESCRIPTION:Inscriptions : centre.equestre@ceyverdon.ch\n\n\n  \n 
URL:https://www.centreequestreyverdon.ch/event/stage-avec-martial-perrin-8/
LOCATION:Centre Equestre Yverdon-Les-Bains\, Rue des Moulins 200\, Yverdon\, 1400\, Suisse
CATEGORIES:Ecole d'équitation,Général,Parcours d'entrainement
ATTACH;FMTTYPE=image/jpeg:https://www.centreequestreyverdon.ch/wp-content/uploads/2019/01/Yver0918e01_Debost-Colombine_BARAKA-DU-ROZEL_0404.jpg
END:VEVENT
END:VCALENDAR